BEGIN:VCALENDAR
VERSION:2.0
PRODID:-//ChamberMaster//Event Calendar 2.0//EN
METHOD:PUBLISH
X-PUBLISHED-TTL:P3D
REFRESH-INTERVAL:P3D
CALSCALE:GREGORIAN
BEGIN:VEVENT
DTSTART:20240720T000000Z
DTEND:20240720T030000Z
X-MICROSOFT-CDO-ALLDAYEVENT:FALSE
SUMMARY:Fenwick Flicks Featuring Disney's "The Little Mermaid"
DESCRIPTION:Families please join the Town of Fenwick Island for the annual summer movies on the beach.\n\n\n\nIn July\, we are featuring Disney's "The Little Mermaid".\n\n\n\nFamily games begin at 8:00 p.m.\n\n\n\nThe movie begins at 8:30 p.m.
X-ALT-DESC;FMTTYPE=text/html:Families please join the Town of Fenwick Island for the annual summer movies on the beach.<br />\n<br />\nIn July\, we are featuring Disney&#39\;s &quot\;The Little Mermaid&quot\;.<br />\n<br />\nFamily games begin at 8:00 p.m.<br />\n<br />\nThe movie begins at 8:30 p.m.
LOCATION:Bayard Street Beach Fenwick Island\, DE 19944
UID:e.2126.30101
SEQUENCE:3
DTSTAMP:20260420T133506Z
URL:https://business.bethany-fenwick.org/events/details/fenwick-flicks-featuring-disney-s-the-little-mermaid-30101
END:VEVENT

END:VCALENDAR
