BEGIN:VCALENDAR
VERSION:2.0
PRODID:-//ChamberMaster//Event Calendar 2.0//EN
METHOD:PUBLISH
X-PUBLISHED-TTL:P3D
REFRESH-INTERVAL:P3D
CALSCALE:GREGORIAN
BEGIN:VEVENT
DTSTART;VALUE=DATE:20220711
DTEND;VALUE=DATE:20220712
TRANSP:TRANSPARENT
X-MICROSOFT-CDO-ALLDAYEVENT:TRUE
SUMMARY:Fenwick Island Mini-Golf League
DESCRIPTION:Do you love to play golf\, but aches and pains keep you off the course these days? Do you miss the comradery and fun of playing with family and friends? If you do\, then the new Fenwick Island Mini-Golf League is the thing for you!\n\n\n\nStarting on Monday\, May 2nd\, join us each Monday for fun and fellowship at the Viking Golf and Go-Carts in Fenwick Island. Registration begins at 8:30 am with a shotgun start at 9:00 am. League fee is $5.00 and your first week of play is free. Future games will be discounted. All you need to bring is your putter and a goal of having fun and meeting new people.\n\n\n\nFor more information or to sign up\, please contact Glenn Pierce at gtpierce74+fimgl@gmail.com or text 828-231-2860.\n\n\n\nThe number of players is limited\, so make sure to sign-up today!
X-ALT-DESC;FMTTYPE=text/html:<span style="font-family:arial\;"><span style="font-size:14px\;">Do you love to play golf\, but aches and pains keep you off the course these days? Do you miss the comradery and fun of playing with family and friends? If you do\, then the new Fenwick Island Mini-Golf League is the thing for you!<br />\n<br />\nStarting on Monday\, May 2nd\, join us each Monday for fun and fellowship at the Viking Golf and Go-Carts in Fenwick Island. Registration begins at 8:30 am with a shotgun start at 9:00 am. League fee is $5.00 and your first week of play is free. Future games will be discounted. All you need to bring is your putter and a goal of having fun and meeting new people.<br />\n<br />\nFor more information or to sign up\, please contact Glenn Pierce at gtpierce74+fimgl@gmail.com or text 828-231-2860.<br />\n<br />\n<span style="color:#FF0000\;"><strong><em>The number of players is limited\, so make sure to sign-up today!</em></strong></span></span></span>
LOCATION:Viking Golf & Go-Karts 38965 Island St Fenwick Island\, DE 19944
UID:e.2126.23602
SEQUENCE:3
DTSTAMP:20260425T190859Z
URL:https://business.bethany-fenwick.org/events/details/fenwick-island-mini-golf-league-07-11-2022-23602
END:VEVENT

END:VCALENDAR
