BEGIN:VCALENDAR
VERSION:2.0
PRODID:-//ChamberMaster//Event Calendar 2.0//EN
METHOD:PUBLISH
X-PUBLISHED-TTL:P3D
REFRESH-INTERVAL:P3D
CALSCALE:GREGORIAN
BEGIN:VEVENT
DTSTART:20210226T220000Z
DTEND:20210228T010000Z
X-MICROSOFT-CDO-ALLDAYEVENT:FALSE
SUMMARY:Fire & Ice "Delmarvalous" Festival - Ice Luge Tasting
DESCRIPTION:Stop by Salted Vines Vineyard\, located at 32512 Rd 374\, Frankford\, DE 19945\, for their ice luge wine tasting.\n\n\n\nThe fun will include:\n\n	Live Music Friday with Scott Dinolfi and Saturday with Bob Elliott\n	3 Secret Winter Wine Ice Luge drinks available for purchase.\n	Warmed Mulled Wine\n	All cold and frozen drinks available to-go in fun adult drink pouches\n	Animal encounters with Barn Hill Preserve on Saturday where you can meet and learn about some of their spiky animal ambassadors. Barb the Palawan porcupine along with Sugar & Spice who are hedgehog sisters.\n\n\n\nAND all who participate in any of the below featured activities will be entered in to win a FIRE & ICE BASKET including awesome prizes:\n\n\n	Sampling the secret drinks at Salted Vines\n	Partaking in the Delmarva Juice & Java at Fenwick Shores Hotel\n	Participating in a Barn Hill Preserve animal encounter at Salted Vines or Fenwick Shores on Saturday\n\n\n\nFIRE & ICE BASKET\n\nThis great prize is valued at $360 and includes:\n\n\n	3 at make at home wine slushy mixes\n	3 local hand-made wine scented candles\n	2 Color changing Salted Vines Cups\n	Discount coupon for wine at Salted Vines\n	A table for two at Sippin' with Sloths hosted at Salted Vines\n	An overnight stay at the NEW Fenwick Shores Hotel!
X-ALT-DESC;FMTTYPE=text/html:<span style="font-family:arial\;"><span style="font-size:14px\;">Stop by Salted Vines Vineyard\, located at&nbsp\;<strong>32512 Rd 374\, Frankford\, DE 19945</strong>\, for their ice luge wine tasting.</span><br />\n<br />\n<span style="color: rgb(60\, 64\, 67)\; font-size: 14px\; letter-spacing: 0.2px\;">The fun will include:</span></span>\n<ul>\n	<li><span style="font-family:arial\;"><span style="color: rgb(60\, 64\, 67)\; font-size: 14px\; letter-spacing: 0.2px\;">Live Music Friday with Scott Dinolfi and Saturday with Bob Elliott</span></span></li>\n	<li><span style="font-family:arial\;"><span style="color: rgb(60\, 64\, 67)\; font-size: 14px\; letter-spacing: 0.2px\;"><span style="color: rgb(60\, 64\, 67)\; font-size: 14px\; letter-spacing: 0.2px\;">3 Secret Winter Wine Ice Luge drinks available for purchase.</span></span></span></li>\n	<li><span style="font-family:arial\;"><span style="color: rgb(60\, 64\, 67)\; font-size: 14px\; letter-spacing: 0.2px\;"><span style="color: rgb(60\, 64\, 67)\; font-size: 14px\; letter-spacing: 0.2px\;"><span style="color: rgb(60\, 64\, 67)\; font-size: 14px\; letter-spacing: 0.2px\;">Warmed Mulled Wine</span></span></span></span></li>\n	<li><span style="font-family:arial\;"><span style="color: rgb(60\, 64\, 67)\; font-size: 14px\; letter-spacing: 0.2px\;"><span style="color: rgb(60\, 64\, 67)\; font-size: 14px\; letter-spacing: 0.2px\;"><span style="color: rgb(60\, 64\, 67)\; font-size: 14px\; letter-spacing: 0.2px\;"><span style="color: rgb(60\, 64\, 67)\; font-size: 14px\; letter-spacing: 0.2px\;">All cold and frozen drinks available to-go in fun adult drink pouches</span></span></span></span></span></li>\n	<li><span style="font-family:arial\;"><span style="color: rgb(60\, 64\, 67)\; font-size: 14px\; letter-spacing: 0.2px\;"><span style="color: rgb(60\, 64\, 67)\; font-size: 14px\; letter-spacing: 0.2px\;"><span style="color: rgb(60\, 64\, 67)\; font-size: 14px\; letter-spacing: 0.2px\;"><span style="color: rgb(60\, 64\, 67)\; font-size: 14px\; letter-spacing: 0.2px\;"><span style="color: rgb(60\, 64\, 67)\; font-size: 14px\; letter-spacing: 0.2px\;">Animal encounters with Barn Hill Preserve on Saturday where you can meet and learn about some of their spiky animal ambassadors. Barb the Palawan porcupine along with Sugar &amp\; Spice who are hedgehog sisters.</span></span></span></span></span></span></li>\n</ul>\n<br style="color: rgb(60\, 64\, 67)\; font-family: Roboto\, RobotoDraft\, Helvetica\, Arial\, sans-serif\; font-size: 14px\; letter-spacing: 0.2px\;" />\n<span style="font-family:arial\;"><span style="color: rgb(60\, 64\, 67)\; font-size: 14px\; letter-spacing: 0.2px\;">AND all who participate in any of the below featured activities will be entered in to win a FIRE &amp\; ICE BASKET including awesome prizes:</span></span>\n\n<ul>\n	<li><span style="font-family:arial\;"><span style="color: rgb(60\, 64\, 67)\; font-size: 14px\; letter-spacing: 0.2px\;">Sampling the secret drinks at Salted Vines</span></span></li>\n	<li><span style="font-family:arial\;"><span style="color: rgb(60\, 64\, 67)\; font-size: 14px\; letter-spacing: 0.2px\;"><span style="color: rgb(60\, 64\, 67)\; font-size: 14px\; letter-spacing: 0.2px\;">Partaking in the Delmarva Juice &amp\; Java at Fenwick Shores Hotel</span></span></span></li>\n	<li><span style="font-family:arial\;"><span style="color: rgb(60\, 64\, 67)\; font-size: 14px\; letter-spacing: 0.2px\;"><span style="color: rgb(60\, 64\, 67)\; font-size: 14px\; letter-spacing: 0.2px\;"><span style="color: rgb(60\, 64\, 67)\; font-size: 14px\; letter-spacing: 0.2px\;">Participating in a Barn Hill Preserve animal encounter at Salted Vines or Fenwick Shores on Saturday</span></span></span></span></li>\n</ul>\n<br />\n<span style="font-family:arial\;"><span style="color: rgb(60\, 64\, 67)\; font-size: 14px\; letter-spacing: 0.2px\;">FIRE &amp\; ICE BASKET</span><br style="color: rgb(60\, 64\, 67)\; font-family: Roboto\, RobotoDraft\, Helvetica\, Arial\, sans-serif\; font-size: 14px\; letter-spacing: 0.2px\;" />\n<span style="color: rgb(60\, 64\, 67)\; font-size: 14px\; letter-spacing: 0.2px\;">This great prize is valued at $360 and includes:</span></span>\n\n<ul>\n	<li><span style="font-family:arial\;"><span style="color: rgb(60\, 64\, 67)\; font-size: 14px\; letter-spacing: 0.2px\;">3 at make at home wine slushy mixes</span></span></li>\n	<li><span style="font-family:arial\;"><span style="color: rgb(60\, 64\, 67)\; font-size: 14px\; letter-spacing: 0.2px\;"><span style="color: rgb(60\, 64\, 67)\; font-size: 14px\; letter-spacing: 0.2px\;">3 local hand-made wine scented candles</span></span></span></li>\n	<li><span style="font-family:arial\;"><span style="color: rgb(60\, 64\, 67)\; font-size: 14px\; letter-spacing: 0.2px\;"><span style="color: rgb(60\, 64\, 67)\; font-size: 14px\; letter-spacing: 0.2px\;"><span style="color: rgb(60\, 64\, 67)\; font-size: 14px\; letter-spacing: 0.2px\;">2 Color changing Salted Vines Cups</span></span></span></span></li>\n	<li><span style="font-family:arial\;"><span style="color: rgb(60\, 64\, 67)\; font-size: 14px\; letter-spacing: 0.2px\;"><span style="color: rgb(60\, 64\, 67)\; font-size: 14px\; letter-spacing: 0.2px\;"><span style="color: rgb(60\, 64\, 67)\; font-size: 14px\; letter-spacing: 0.2px\;"><span style="color: rgb(60\, 64\, 67)\; font-size: 14px\; letter-spacing: 0.2px\;">Discount coupon for wine at Salted Vines</span></span></span></span></span></li>\n	<li><span style="font-family:arial\;"><span style="color: rgb(60\, 64\, 67)\; font-size: 14px\; letter-spacing: 0.2px\;"><span style="color: rgb(60\, 64\, 67)\; font-size: 14px\; letter-spacing: 0.2px\;"><span style="color: rgb(60\, 64\, 67)\; font-size: 14px\; letter-spacing: 0.2px\;"><span style="color: rgb(60\, 64\, 67)\; font-size: 14px\; letter-spacing: 0.2px\;"><span style="color: rgb(60\, 64\, 67)\; font-size: 14px\; letter-spacing: 0.2px\;">A table for two at Sippin&rsquo\; with Sloths hosted at Salted Vines</span></span></span></span></span></span></li>\n	<li><span style="font-family:arial\;"><span style="color: rgb(60\, 64\, 67)\; font-size: 14px\; letter-spacing: 0.2px\;"><span style="color: rgb(60\, 64\, 67)\; font-size: 14px\; letter-spacing: 0.2px\;"><span style="color: rgb(60\, 64\, 67)\; font-size: 14px\; letter-spacing: 0.2px\;"><span style="color: rgb(60\, 64\, 67)\; font-size: 14px\; letter-spacing: 0.2px\;"><span style="color: rgb(60\, 64\, 67)\; font-size: 14px\; letter-spacing: 0.2px\;"><span style="font-family:arial\;"><span style="color: rgb(60\, 64\, 67)\; font-size: 14px\; letter-spacing: 0.2px\;">An overnight stay at the NEW Fenwick Shores Hotel!</span></span></span></span></span></span></span></span></li>\n</ul>\n
LOCATION:Salted Vines Vineyard 32512 Rd 374 Frankford\, DE 19945
UID:e.2126.21889
SEQUENCE:3
DTSTAMP:20260425T024537Z
URL:https://business.bethany-fenwick.org/events/details/fire-ice-delmarvalous-festival-ice-luge-tasting-21889
END:VEVENT

END:VCALENDAR
