BEGIN:VCALENDAR
VERSION:2.0
PRODID:-//ChamberMaster//Event Calendar 2.0//EN
METHOD:PUBLISH
X-PUBLISHED-TTL:P3D
REFRESH-INTERVAL:P3D
CALSCALE:GREGORIAN
BEGIN:VEVENT
DTSTART;VALUE=DATE:20210226
DTEND;VALUE=DATE:20210301
TRANSP:TRANSPARENT
X-MICROSOFT-CDO-ALLDAYEVENT:TRUE
SUMMARY:Fire & Ice "Delmarvalous" Festival - Ice Sculpture Scavenger Hunt
DESCRIPTION:Participate in the Fire & Ice "Delmarvalous" Scavenger Hunt to be entered to win a Outdoor Adventure Package\, presented by Southern Delaware Tourism. Be sure to pick up a festival map at any of the information tents located in Bethany Beach\, John West Park or Millville Boardwalk to ensure you see all the sculptures.\n\n\n\nHow to Win\n\nWinners will be selected based on the most correct answers. In the event of a tie\, a winner will be selected at random. Return completed forms to any of the Information Tents at the Walking Tour locations by 8 pm on Saturday. Winners will be contacted by Wed.\, March 3\, 2021. NOTE: MUST BE 21 OR OVER TO RECEIVE THE OVERNIGHT STAY\n\n\n\nPrize\n\nThe Outdoor Adventure Package presented by Southern Delaware Tourism will include:\n\n	2 hour kayak rental for two from Coastal Kayak\n	1 hour paddle-board rental for two from Coastal Kayak\n	$50 gift certificate towards any field trip during the Spring Delmarva Birding Weekend (April 22-25\, 2021)\n	\n		 Plus a 4-pack of Binoculager\, brewed in collaboration with Dogfish Head\, the American Birding Association and Delmarva Birding Weekends\n	\n	\n	Trip for 2 with the Cape Water Tours and Taxi\n	2 tickets to the Delaware Botanic Gardens\n	Overnight stay at a "Delmarvalous" Hotel\n	Southern Delaware swag\n\nAdditional Prizes\n\n\n	Two (2) $25 gift cards to DiFebo's\n	One (1) $20 gift certificate to Kristina's Kitchen\n	Three (3) Fun Cards to Millville Boardwalk\n	Slushy pouch\, 2 color changing Salted Vines cups and a complimentary tasting card\n\n\n\nOn-Site Ice Sculptures\n\n\n	Banks Wines & Spirits - Millville\n	Bethany Beach Beverage Co. - Bethany Beach\n	Creative Concepts - Ocean View\n	DiFebo's - Bethany Beach\n	Fenwick Shores - Fenwick Island\n	High Tide Coffee & Bowls/Local Coffee - Fenwick Shores\n	Holiday Inn Express - Bethany Beach\n	Perfect Furnishings - Bethany Beach\n	Pottery Place - Fenwick Island\n	Salted Vines Vineyard - Frankford\n\nDowntown Bethany Beach Ice Sculptures\n\n\n	Bethany Beach Books\n	Bethany Beach Ocean Suites\n	Fisher's Popcorn\n	PNC Bank\n	Ropewalk Bethany Beach\n	Sandy Pony\n	Southern Delaware Tourism\n	The Penguin\n	Tidepool Toys & Games\n	Town of Bethany Beach\n	Wilgus\n\n\n\nLord's Landscaping (open to the public on Saturday only)\n\n\n	Bethany Beach Books\n	Big Wave HVAC\n	CustomFit360\n	Kristina's Kitchen\n	Parsons & Robinson\, P.A.\n	Seaside Seven\n	Shore Thing Property Services\n	Billy Reese - State Farm\n	True North\n\n\n\nJohn West Park\n\n\n	All About U\n	A Sweet Affair Events\n	Berkshire Hathaway\n	Bethany-Fenwick Area Chamber of Commerce\n	Garth Enterprises\n	Heather's Home Works\n	Oscar Mayer\n	Town of Ocean View\n	The UPS Store\n\n\n\nMillville Boardwalk\n\n\n	Beazer Homes\n	Calvin B. Taylor Bank\n	Captain's Quarters Arcade\n	Custom Mechanical\n	Long & Foster\n	Millville Boardwalk/Agape Creamery\n	Mountaire Farms\n	Provident State Bank\n	Vacasa
X-ALT-DESC;FMTTYPE=text/html:<span style="font-family:arial\;"><span style="font-size:14px\;">Participate in the Fire &amp\; Ice &quot\;Delmarvalous&quot\; Scavenger Hunt to be entered to win a Outdoor Adventure Package\, presented by Southern Delaware Tourism. Be sure to pick up a festival map at any of the information tents located in Bethany Beach\, John West Park or Millville Boardwalk to ensure you see all the sculptures.<br />\n<br />\n<strong>How to Win</strong><br />\nWinners will be selected based on the most correct answers. In the event of a tie\, a winner will be selected at random. Return completed forms to any of the Information Tents at the Walking Tour locations by 8 pm on Saturday. Winners will be contacted by Wed.\, March 3\, 2021. NOTE: MUST BE 21 OR OVER TO RECEIVE THE OVERNIGHT STAY</span></span><br />\n<br />\n<span style="font-family:arial\;"><span style="font-size:14px\;"><strong>Prize</strong><br />\nThe Outdoor Adventure Package presented by Southern Delaware Tourism will include:</span></span>\n<ul>\n	<li><span style="font-family:arial\;"><span style="font-size:14px\;">2 hour kayak rental for two from Coastal Kayak</span></span></li>\n	<li><span style="font-family:arial\;"><span style="font-size:14px\;">1 hour paddle-board rental for two from Coastal Kayak</span></span></li>\n	<li><span style="font-family:arial\;"><span style="font-size:14px\;">$50 gift certificate towards&nbsp\;any field trip during the Spring Delmarva Birding Weekend (April 22-25\, 2021)</span></span>\n	<ul>\n		<li><span style="font-family:arial\;"><span style="font-size:14px\;">&#8203\;Plus a 4-pack of Binoculager\, brewed in collaboration with Dogfish Head\, the American Birding Association and Delmarva Birding Weekends</span></span></li>\n	</ul>\n	</li>\n	<li><span style="font-family:arial\;"><span style="font-size:14px\;">Trip for 2 with the Cape Water Tours and Taxi</span></span></li>\n	<li><span style="font-family:arial\;"><span style="font-size:14px\;">2 tickets to the Delaware Botanic Gardens</span></span></li>\n	<li><span style="font-family:arial\;"><span style="font-size:14px\;">Overnight stay at a &quot\;Delmarvalous&quot\; Hotel</span></span></li>\n	<li><span style="font-family:arial\;"><span style="font-size:14px\;">Southern Delaware swag</span></span></li>\n</ul>\n<span style="font-family:arial\;"><span style="font-size:14px\;"><strong>Additional Prizes</strong></span></span>\n\n<ul>\n	<li><span style="font-family:arial\;"><span style="font-size:14px\;">Two (2) $25 gift cards to DiFebo&#39\;s</span></span></li>\n	<li><span style="font-family:arial\;"><span style="font-size:14px\;">One (1) $20 gift certificate to Kristina&#39\;s Kitchen</span></span></li>\n	<li><span style="font-family:arial\;"><span style="font-size:14px\;">Three (3) Fun Cards to Millville Boardwalk</span></span></li>\n	<li><span style="font-family:arial\;"><span style="font-size:14px\;">Slushy pouch\, 2 color changing Salted Vines cups and a complimentary tasting card</span></span></li>\n</ul>\n<br />\n<span style="font-family:arial\;"><span style="font-size:14px\;"><strong>On-Site Ice Sculptures</strong></span></span>\n\n<ul>\n	<li><span style="font-family:arial\;"><span style="font-size:14px\;">Banks Wines &amp\; Spirits - Millville</span></span></li>\n	<li><span style="font-family:arial\;"><span style="font-size:14px\;">Bethany Beach Beverage Co. - Bethany Beach</span></span></li>\n	<li><font face="arial"><span style="font-size: 14px\;">Creative Concepts - Ocean View</span></font></li>\n	<li><font face="arial"><span style="font-size: 14px\;">DiFebo&#39\;s - Bethany Beach</span></font></li>\n	<li><font face="arial"><span style="font-size: 14px\;">Fenwick Shores - Fenwick Island</span></font></li>\n	<li><font face="arial"><span style="font-size: 14px\;">High Tide Coffee &amp\; Bowls/Local Coffee - Fenwick Shores</span></font></li>\n	<li><font face="arial"><span style="font-size: 14px\;">Holiday Inn Express - Bethany Beach</span></font></li>\n	<li><font face="arial"><span style="font-size: 14px\;">Perfect Furnishings - Bethany Beach</span></font></li>\n	<li><font face="arial"><span style="font-size: 14px\;">Pottery Place - Fenwick Island</span></font></li>\n	<li><font face="arial"><span style="font-size: 14px\;">Salted Vines Vineyard - Frankford</span></font></li>\n</ul>\n<font face="arial"><span style="font-size: 14px\;"><strong>Downtown Bethany Beach Ice Sculptures</strong></span></font>\n\n<ul>\n	<li><font face="arial"><span style="font-size: 14px\;">Bethany Beach Books</span></font></li>\n	<li><font face="arial"><span style="font-size: 14px\;">Bethany Beach Ocean Suites</span></font></li>\n	<li><font face="arial"><span style="font-size: 14px\;">Fisher&#39\;s Popcorn</span></font></li>\n	<li><font face="arial"><span style="font-size: 14px\;">PNC Bank</span></font></li>\n	<li><font face="arial"><span style="font-size: 14px\;">Ropewalk Bethany Beach</span></font></li>\n	<li><font face="arial"><span style="font-size: 14px\;">Sandy Pony</span></font></li>\n	<li><font face="arial"><span style="font-size: 14px\;">Southern Delaware Tourism</span></font></li>\n	<li><font face="arial"><span style="font-size: 14px\;">The Penguin</span></font></li>\n	<li><font face="arial"><span style="font-size: 14px\;">Tidepool Toys &amp\; Games</span></font></li>\n	<li><font face="arial"><span style="font-size: 14px\;">Town of Bethany Beach</span></font></li>\n	<li><font face="arial"><span style="font-size: 14px\;">Wilgus</span></font></li>\n</ul>\n<br />\n<font face="arial"><span style="font-size: 14px\;"><strong>Lord&#39\;s Landscaping (open to the public on Saturday only)</strong></span></font>\n\n<ul>\n	<li><span style="font-family:arial\;"><span style="font-size:14px\;">Bethany Beach Books</span></span></li>\n	<li><font face="arial"><span style="font-size: 14px\;">Big Wave HVAC</span></font></li>\n	<li><font face="arial"><span style="font-size: 14px\;">CustomFit360</span></font></li>\n	<li><font face="arial"><span style="font-size: 14px\;">Kristina&#39\;s Kitchen</span></font></li>\n	<li><font face="arial"><span style="font-size: 14px\;">Parsons &amp\; Robinson\, P.A.</span></font></li>\n	<li><font face="arial"><span style="font-size: 14px\;">Seaside Seven</span></font></li>\n	<li><font face="arial"><span style="font-size: 14px\;">Shore Thing Property Services</span></font></li>\n	<li><font face="arial"><span style="font-size: 14px\;">Billy Reese - State Farm</span></font></li>\n	<li><font face="arial"><span style="font-size: 14px\;">True North</span></font></li>\n</ul>\n<br />\n<font face="arial"><span style="font-size: 14px\;"><strong>John West Park</strong></span></font>\n\n<ul>\n	<li><font face="arial"><span style="font-size: 14px\;">All About U</span></font></li>\n	<li><font face="arial"><span style="font-size: 14px\;">A Sweet Affair Events</span></font></li>\n	<li><font face="arial"><span style="font-size: 14px\;">Berkshire Hathaway</span></font></li>\n	<li><font face="arial"><span style="font-size: 14px\;">Bethany-Fenwick Area Chamber of Commerce</span></font></li>\n	<li><font face="arial"><span style="font-size: 14px\;">Garth Enterprises</span></font></li>\n	<li><font face="arial"><span style="font-size: 14px\;">Heather&#39\;s Home Works</span></font></li>\n	<li><font face="arial"><span style="font-size: 14px\;">Oscar Mayer</span></font></li>\n	<li><font face="arial"><span style="font-size: 14px\;">Town of Ocean View</span></font></li>\n	<li><font face="arial"><span style="font-size: 14px\;">The UPS Store</span></font></li>\n</ul>\n<br />\n<font face="arial"><span style="font-size: 14px\;"><strong>Millville Boardwalk</strong></span></font>\n\n<ul>\n	<li><span style="font-size:14px\;"><span style="font-family:arial\;">Beazer Homes</span></span></li>\n	<li><span style="font-size:14px\;"><span style="font-family:arial\;">Calvin B. Taylor Bank</span></span></li>\n	<li><span style="font-size:14px\;"><span style="font-family:arial\;">Captain&#39\;s Quarters Arcade</span></span></li>\n	<li><span style="font-size:14px\;"><span style="font-family:arial\;">Custom Mechanical</span></span></li>\n	<li><span style="font-size:14px\;"><span style="font-family:arial\;">Long &amp\; Foster</span></span></li>\n	<li><span style="font-size:14px\;"><span style="font-family:arial\;">Millville Boardwalk/Agape Creamery</span></span></li>\n	<li><span style="font-size:14px\;"><span style="font-family:arial\;">Mountaire Farms</span></span></li>\n	<li><span style="font-size:14px\;"><span style="font-family:arial\;">Provident State Bank</span></span></li>\n	<li><span style="font-size:14px\;"><span style="font-family:arial\;">Vacasa</span></span></li>\n</ul>\n
LOCATION:
UID:e.2126.21890
SEQUENCE:3
DTSTAMP:20260425T024538Z
URL:https://business.bethany-fenwick.org/events/details/fire-ice-delmarvalous-festival-ice-sculpture-scavenger-hunt-21890
END:VEVENT

END:VCALENDAR
