BEGIN:VCALENDAR
VERSION:2.0
PRODID:-//ChamberMaster//Event Calendar 2.0//EN
METHOD:PUBLISH
X-PUBLISHED-TTL:P3D
REFRESH-INTERVAL:P3D
CALSCALE:GREGORIAN
BEGIN:VEVENT
DTSTART:20210227T220000Z
DTEND:20210228T010000Z
X-MICROSOFT-CDO-ALLDAYEVENT:FALSE
SUMMARY:Fire & Ice "Delmarvalous" Festival - Lord's Landscaping Sculpture Walking Tour
DESCRIPTION:Head down Route 26 to Lord's Landscaping\, located at 35577 Atlantic Ave\, Millville\, DE 19967\, and tour the ice sculptures. Pick up a festival map at the Information Tent to make sure you see them all! The walking tour will begin at 5:00 pm on Saturday night. Watch the ice sculptures be unveiled and illuminated with lights.\n\n\n\nFire & Ice Festival\n\nFor all activities occurring throughout the Fire & Ice Festival\, please click here.
X-ALT-DESC;FMTTYPE=text/html:<span style="font-family:arial\;"><span style="font-size:14px\;">Head down Route 26 to Lord&#39\;s Landscaping\, located at <strong>35577 Atlantic Ave\, Millville\, DE 19967</strong><b>\,</b>&nbsp\;and tour the ice sculptures. Pick up a festival map at the Information Tent to make sure you see them all! The walking tour will begin at 5:00 pm on Saturday night. Watch the ice sculptures be unveiled and illuminated with lights.</span></span><br />\n<br />\n<span style="font-size: 14px\;"><strong><span style="font-family: arial\; box-sizing: content-box\; inset: auto\; clear: none\; content: normal\; direction: inherit\; empty-cells: show\; font-variant-numeric: inherit\; font-variant-east-asian: inherit\; font-stretch: inherit\; line-height: inherit\; margin: 0px\; max-height: none\; max-width: none\; min-height: initial\; min-width: initial\; opacity: 1\; outline-offset: 0px\; overflow: visible\; padding: 0px\; position: static\; resize: none\; table-layout: auto\; text-overflow: clip\; vertical-align: baseline\; visibility: inherit\; word-break: inherit\; overflow-wrap: inherit\; z-index: auto\; background-image: none\; background-position: initial\; background-size: initial\; background-repeat: initial\; background-attachment: initial\; background-origin: initial\; background-clip: initial\; border: none\; border-collapse: separate\; border-radius: 0px\; height: auto\; width: auto\; box-shadow: none\;"><span style="font-family: inherit\; box-sizing: content-box\; inset: auto\; clear: none\; content: normal\; direction: inherit\; empty-cells: show\; font-variant-numeric: inherit\; font-variant-east-asian: inherit\; font-stretch: inherit\; line-height: inherit\; margin: 0px\; max-height: none\; max-width: none\; min-height: initial\; min-width: initial\; opacity: 1\; outline-offset: 0px\; overflow: visible\; padding: 0px\; position: static\; resize: none\; table-layout: auto\; text-align: inherit\; text-overflow: clip\; vertical-align: baseline\; visibility: inherit\; white-space: pre-wrap\; word-break: inherit\; overflow-wrap: inherit\; z-index: auto\; background-image: none\; background-position: initial\; background-size: initial\; background-repeat: initial\; background-attachment: initial\; background-origin: initial\; background-clip: initial\; border: none\; border-collapse: separate\; border-radius: 0px\; height: auto\; width: auto\; box-shadow: none\;">Fire &amp\; Ice Festival</span></span></strong></span><br style="font-family: arial\; box-sizing: content-box\; inset: auto\; clear: none\; color: rgb(37\, 32\, 26)\; content: normal\; direction: inherit\; display: inline\; empty-cells: show\; float: none\; font-variant-numeric: inherit\; font-variant-east-asian: inherit\; font-stretch: inherit\; font-size: 14px\; line-height: inherit\; margin: 0px\; max-height: none\; max-width: none\; min-height: initial\; min-width: initial\; opacity: 1\; outline-offset: 0px\; overflow: visible\; padding: 0px\; position: static\; resize: none\; table-layout: auto\; text-overflow: clip\; vertical-align: baseline\; visibility: inherit\; word-break: inherit\; overflow-wrap: inherit\; z-index: auto\; background-image: none\; background-position: initial\; background-size: initial\; background-repeat: initial\; background-attachment: initial\; background-origin: initial\; background-clip: initial\; border: none\; border-collapse: separate\; border-radius: 0px\; height: auto\; width: auto\;" />\n<span style="font-family: arial\; box-sizing: content-box\; inset: auto\; clear: none\; color: rgb(29\, 33\, 41)\; content: normal\; direction: inherit\; empty-cells: show\; font-variant-numeric: inherit\; font-variant-east-asian: inherit\; font-stretch: inherit\; font-size: 14px\; line-height: inherit\; margin: 0px\; max-height: none\; max-width: none\; min-height: initial\; min-width: initial\; opacity: 1\; outline-offset: 0px\; overflow: visible\; padding: 0px\; position: static\; resize: none\; table-layout: auto\; text-overflow: clip\; vertical-align: baseline\; visibility: inherit\; white-space: pre-wrap\; word-break: inherit\; overflow-wrap: inherit\; z-index: auto\; background-image: none\; background-position: initial\; background-size: initial\; background-repeat: initial\; background-attachment: initial\; background-origin: initial\; background-clip: initial\; border: none\; border-collapse: separate\; border-radius: 0px\; height: auto\; width: auto\; box-shadow: none\;">For all activities occurring throughout the Fire &amp\; Ice Festival\, please <span style="font-family: inherit\; box-sizing: content-box\; font-weight: bolder\; inset: auto\; clear: none\; color: inherit\; content: normal\; direction: inherit\; empty-cells: show\; font-style: inherit\; font-variant: inherit\; font-stretch: inherit\; font-size: inherit\; letter-spacing: inherit\; line-height: inherit\; margin: 0px\; max-height: none\; max-width: none\; min-height: initial\; min-width: initial\; opacity: 1\; outline-offset: 0px\; overflow: visible\; padding: 0px\; position: static\; resize: none\; table-layout: auto\; text-align: inherit\; text-indent: inherit\; text-overflow: clip\; text-transform: inherit\; vertical-align: baseline\; visibility: inherit\; white-space: inherit\; word-break: inherit\; word-spacing: inherit\; overflow-wrap: inherit\; z-index: auto\; background: none\; border: none\; border-collapse: separate\; border-radius: 0px\; height: auto\; width: auto\; box-shadow: none\;"><a href="https://business.bethany-fenwick.org/events/details/fire-ice-festival-delmarvalous-21843" style="color: rgb(83\, 116\, 153)\; font: inherit\; box-sizing: content-box\; text-decoration-line: none\; transition: all 0.2s ease 0s\; background: none\; outline: none 0px\; -webkit-tap-highlight-color: rgba(0\, 0\, 0\, 0.3)\; inset: auto\; clear: none\; content: normal\; direction: inherit\; display: inline\; empty-cells: show\; float: none\; letter-spacing: inherit\; margin: 0px\; max-height: none\; max-width: none\; min-height: initial\; min-width: initial\; opacity: 1\; outline-offset: 0px\; overflow: visible\; padding: 0px\; position: static\; resize: none\; table-layout: auto\; text-align: inherit\; text-indent: inherit\; text-overflow: clip\; text-transform: inherit\; vertical-align: baseline\; visibility: inherit\; white-space: inherit\; word-break: inherit\; word-spacing: inherit\; overflow-wrap: break-word\; z-index: auto\; border: none\; border-collapse: separate\; border-radius: 0px\; height: auto\; width: auto\; box-shadow: none\;" target="_blank">click here</a></span>.</span>
LOCATION:Lord's Landscaping 35577 Atlantic Ave Millville\, DE 19967
UID:e.2126.21884
SEQUENCE:3
DTSTAMP:20260425T024700Z
URL:https://business.bethany-fenwick.org/events/details/fire-ice-delmarvalous-festival-lord-s-landscaping-sculpture-walking-tour-21884
END:VEVENT

END:VCALENDAR
