BEGIN:VCALENDAR
VERSION:2.0
PRODID:-//ChamberMaster//Event Calendar 2.0//EN
METHOD:PUBLISH
X-PUBLISHED-TTL:P3D
REFRESH-INTERVAL:P3D
CALSCALE:GREGORIAN
BEGIN:VEVENT
DTSTART:20210226T220000Z
DTEND:20210227T020000Z
X-MICROSOFT-CDO-ALLDAYEVENT:FALSE
SUMMARY:Fire & Ice "Delmarvalous" Festival - Tour de Fuego
DESCRIPTION:Fire & Ice - Tour de Fuego\n\n \n\nSpice up your Friday night with Tour de Fuego! Lord's Landscaping\, Off the Hook Restaurant Group & Bethany Beach Beverage Company are teaming up to bring you a walk-through food and wine trail. As you walk through the trail you won?t just be enjoying a 5-course chef inspired meal &  handpicked wine pairings\, there will be local businesses set up throughout the trail.  Stop along the way and get to know your local businesses and see their beautiful Delmarvalous ice displays provided by Ice Lab! Catch a glimpse of our Fire Dancer\, brought to you by the The Town of Millville\, as you wait in our socially distanced waiting area for your time slot. Tickets are $160 per pod and proceeds benefit the nonprofit Santa's Letters.\n\n*Must be 21 or over to participate. All participants must bring their ID's\n\n*All ticket sales are final\, refunds will not be provided. Pods may be transferred to another group by calling the Chamber prior to February 24th\n\n\n\nRegistration\n\nAll registration and payment for Tour de Fuego will be done online. This is a closed event\, tickets will be required. When you register for this event it will automatically charge you for a  Pod (1 pod = 4 people maximum) .You must choose your time slot to help ensure safe social distancing for all attendees.\n\n\n\nCheck-In\n\nAttendees will park and check-in at the Millville Fire Hall. Attendees must be masked in order to enter and abide by the State of Delaware COVID restrictions. Please arrive at least 15 mins before your time slot. Volunteers will verify your registration and the names registered for your pod in order to give you your time slot ticket before you park. Once your entire pod has arrived you will crossover to Lord's Landscaping. From there\, you will travel through the Tour de Fuego in a loop around the back of our property to eat\, drink and enjoy a night of Fire and Ice!\n\n\n\nCourse Menu\n\n\n	Course 1: Roasted hubbard squash\, crab bisque\, blackened pistachio & chili oil provided by Taste Events\n	Course 2: Blackened mahi taco\, corn tortilla\, avocado salsa verde\, red cabbage\, pickled red onion & mango cayenne pico provided by Hooked Up\n	Course 3: Pan seared day boat scallop\, golden cauliflower puree\, roasted tomato relish\, crispy jalapeno & cilantro provided by Off the Hook\n	Course 4: Day braised short rib\, roasted garlic whipped potato\, grilled asparagus & whole grain demi provided by Hooked\n	Course 5: Banana bread pudding served with Agape Creamery banana ice cream provided by Just Hooked\n\n\n\n\nFire & Ice Festival\n\nFor all activities occurring throughout the Fire & Ice Festival\, please click here.
X-ALT-DESC;FMTTYPE=text/html:<p dir="ltr" style="line-height: 1.2\; margin-right: -1.5pt\; text-align: center\; margin-top: 5pt\; margin-bottom: 0pt\;"><span style="font-size:14px\;"><span style="font-family:arial\;"><strong><span id="docs-internal-guid-12f08616-7fff-ee0a-4676-60b062a86901"><span style="color: rgb(0\, 0\, 0)\; background-color: transparent\; font-variant-numeric: normal\; font-variant-east-asian: normal\; vertical-align: baseline\; white-space: pre-wrap\;">Fire &amp\; Ice - Tour de Fuego</span></span></strong></span></span></p>\n\n<p dir="ltr" style="line-height: 1.38\; text-align: center\; margin-top: 6pt\; margin-bottom: 0pt\;">&nbsp\;</p>\n\n<p dir="ltr" style="line-height: 1.38\; margin-top: 6pt\; margin-bottom: 0pt\;"><span style="font-size:14px\;"><span style="font-family:arial\;">Spice up your Friday night with Tour de Fuego! Lord&#39\;s Landscaping\, Off the Hook Restaurant Group &amp\; Bethany Beach Beverage Company are teaming up to bring you a walk-through food and wine trail. As you walk through the trail you won?t just be enjoying a 5-course chef inspired meal &amp\;&nbsp\; handpicked wine pairings\, there will be local businesses set up throughout the trail.&nbsp\; Stop along the way and get to know your local businesses and see their beautiful Delmarvalous ice displays provided by Ice Lab!&nbsp\;</span></span><span style="font-family: arial\; font-size: 14px\; text-indent: 48px\;">Catch a glimpse of our Fire Dancer\, brought to you&nbsp\;by the The Town of Millville\, as you wait in our socially distanced waiting area for your time slot. Tickets are $160&nbsp\;per pod&nbsp\;and&nbsp\;proceeds&nbsp\;benefit the nonprofit&nbsp\;Santa&#39\;s Letters.</span><br />\n<span style="color: rgb(37\, 32\, 26)\; font-family: arial\; font-size: 14px\; font-weight: 700\;">*Must be 21 or over to participate. All participants must bring their ID&#39\;s<br />\n<i>*All ticket sales are final\, refunds will not be provided. Pods may be transferred to another group by calling the Chamber prior to February 24th</i></span></p>\n\n<p dir="ltr" style="line-height: 1.38\; margin-top: 6pt\; margin-bottom: 0pt\;"><br />\n<strong><span style="font-family:arial\;"><span style="font-size:14px\;">Registration</span></span></strong><br />\n<span style="font-size:14px\;"><span style="font-family:arial\;">All registration and payment for Tour de Fuego&nbsp\;will be done online. This is a closed event\, tickets will be required. When you register for this event it will automatically charge you for a&nbsp\; Pod (1 pod = 4 people maximum) .You must choose your time slot to help ensure safe social distancing for all attendees.<br />\n<br />\n<strong>Check-In</strong></span></span><br />\n<span style="font-family: arial\; font-size: 14px\;">Attendees will park and check-in at the Millville Fire Hall. A</span><span style="font-size:14px\;"><span style="font-family:arial\;">ttendees must be masked in order to enter and abide by the State of Delaware COVID restrictions. Please arrive at least 15&nbsp\;mins before your time slot. Volunteers will&nbsp\;verify your registration and&nbsp\;the names registered for your pod in order to give you your time slot ticket before you&nbsp\;park. Once your entire&nbsp\;pod has arrived you will crossover to Lord&#39\;s Landscaping. From there\, you will travel through the Tour de Fuego in a loop around the back of our property to eat\, drink and enjoy a night of Fire and Ice!</span></span><br />\n<br />\n<strong style="font-family: arial\; font-size: 14px\;">Course Menu</strong></p>\n\n<ul dir="ltr">\n	<li style="line-height: 1.38\; margin-top: 6pt\; margin-bottom: 0pt\;"><span style="font-size:14px\;"><span style="font-family:arial\;">Course 1: Roasted hubbard squash\, crab bisque\, blackened pistachio &amp\; chili oil provided by <strong>Taste Events</strong></span></span></li>\n	<li style="line-height: 1.38\; margin-top: 6pt\; margin-bottom: 0pt\;"><span style="font-size:14px\;"><span style="font-family:arial\;">Course 2: Blackened mahi taco\, corn tortilla\, avocado salsa verde\, red cabbage\, pickled red onion &amp\; mango cayenne pico provided by <strong>Hooked Up</strong></span></span></li>\n	<li style="line-height: 1.38\; margin-top: 6pt\; margin-bottom: 0pt\;"><span style="font-size:14px\;"><span style="font-family:arial\;">Course 3: Pan seared day boat scallop\, golden cauliflower puree\, roasted tomato relish\, crispy jalapeno &amp\; cilantro provided by <strong>Off the Hook</strong></span></span></li>\n	<li style="line-height: 1.38\; margin-top: 6pt\; margin-bottom: 0pt\;"><span style="font-size:14px\;"><span style="font-family:arial\;">Course 4: Day braised short rib\, roasted garlic whipped potato\, grilled asparagus &amp\; whole grain demi provided by <strong>Hooked</strong></span></span></li>\n	<li style="line-height: 1.38\; margin-top: 6pt\; margin-bottom: 0pt\;"><span style="font-size:14px\;"><span style="font-family:arial\;">Course 5: Banana bread pudding served with Agape Creamery banana ice cream provided by <strong>Just Hooked</strong></span></span></li>\n</ul>\n\n<div style="line-height: 1.38\; margin-top: 6pt\; margin-bottom: 0pt\;"><br />\n<span style="font-size:14px\;"><strong><span style="font-family: arial\; box-sizing: content-box\; inset: auto\; clear: none\; content: normal\; direction: inherit\; empty-cells: show\; font-variant-numeric: inherit\; font-variant-east-asian: inherit\; font-stretch: inherit\; line-height: inherit\; margin: 0px\; max-height: none\; max-width: none\; min-height: initial\; min-width: initial\; opacity: 1\; outline-offset: 0px\; overflow: visible\; padding: 0px\; position: static\; resize: none\; table-layout: auto\; text-overflow: clip\; vertical-align: baseline\; visibility: inherit\; word-break: inherit\; overflow-wrap: inherit\; z-index: auto\; background-image: none\; background-position: initial\; background-size: initial\; background-repeat: initial\; background-attachment: initial\; background-origin: initial\; background-clip: initial\; border: none\; border-collapse: separate\; border-radius: 0px\; height: auto\; width: auto\; box-shadow: none\;"><span style="font-family: inherit\; box-sizing: content-box\; inset: auto\; clear: none\; content: normal\; direction: inherit\; empty-cells: show\; font-variant-numeric: inherit\; font-variant-east-asian: inherit\; font-stretch: inherit\; line-height: inherit\; margin: 0px\; max-height: none\; max-width: none\; min-height: initial\; min-width: initial\; opacity: 1\; outline-offset: 0px\; overflow: visible\; padding: 0px\; position: static\; resize: none\; table-layout: auto\; text-align: inherit\; text-overflow: clip\; vertical-align: baseline\; visibility: inherit\; white-space: pre-wrap\; word-break: inherit\; overflow-wrap: inherit\; z-index: auto\; background-image: none\; background-position: initial\; background-size: initial\; background-repeat: initial\; background-attachment: initial\; background-origin: initial\; background-clip: initial\; border: none\; border-collapse: separate\; border-radius: 0px\; height: auto\; width: auto\; box-shadow: none\;"><span style="font-family: inherit\; box-sizing: content-box\; inset: auto\; clear: none\; content: normal\; direction: inherit\; empty-cells: show\; font-style: inherit\; font-variant: inherit\; font-weight: inherit\; font-stretch: inherit\; letter-spacing: inherit\; line-height: inherit\; margin: 0px\; max-height: none\; max-width: none\; min-height: initial\; min-width: initial\; opacity: 1\; outline-offset: 0px\; overflow: visible\; padding: 0px\; position: static\; resize: none\; table-layout: auto\; text-align: inherit\; text-indent: inherit\; text-overflow: clip\; text-transform: inherit\; vertical-align: baseline\; visibility: inherit\; white-space: inherit\; word-break: inherit\; word-spacing: inherit\; overflow-wrap: inherit\; z-index: auto\; background: none\; border: none\; border-collapse: separate\; border-radius: 0px\; height: auto\; width: auto\; box-shadow: none\;">Fire &amp\; Ice Festival</span></span></span></strong></span><br style="font-family: arial\; box-sizing: content-box\; inset: auto\; clear: none\; color: rgb(37\, 32\, 26)\; content: normal\; direction: inherit\; display: inline\; empty-cells: show\; float: none\; font-variant-numeric: inherit\; font-variant-east-asian: inherit\; font-stretch: inherit\; font-size: 14px\; line-height: inherit\; margin: 0px\; max-height: none\; max-width: none\; min-height: initial\; min-width: initial\; opacity: 1\; outline-offset: 0px\; overflow: visible\; padding: 0px\; position: static\; resize: none\; table-layout: auto\; text-overflow: clip\; vertical-align: baseline\; visibility: inherit\; word-break: inherit\; overflow-wrap: inherit\; z-index: auto\; background-image: none\; background-position: initial\; background-size: initial\; background-repeat: initial\; background-attachment: initial\; background-origin: initial\; background-clip: initial\; border: none\; border-collapse: separate\; border-radius: 0px\; height: auto\; width: auto\;" />\n<span style="font-family: arial\; box-sizing: content-box\; inset: auto\; clear: none\; color: rgb(29\, 33\, 41)\; content: normal\; direction: inherit\; empty-cells: show\; font-variant-numeric: inherit\; font-variant-east-asian: inherit\; font-stretch: inherit\; font-size: 14px\; line-height: inherit\; margin: 0px\; max-height: none\; max-width: none\; min-height: initial\; min-width: initial\; opacity: 1\; outline-offset: 0px\; overflow: visible\; padding: 0px\; position: static\; resize: none\; table-layout: auto\; text-overflow: clip\; vertical-align: baseline\; visibility: inherit\; white-space: pre-wrap\; word-break: inherit\; overflow-wrap: inherit\; z-index: auto\; background-image: none\; background-position: initial\; background-size: initial\; background-repeat: initial\; background-attachment: initial\; background-origin: initial\; background-clip: initial\; border: none\; border-collapse: separate\; border-radius: 0px\; height: auto\; width: auto\; box-shadow: none\;">For all activities occurring throughout the Fire &amp\; Ice Festival\, please <span style="font-family: inherit\; box-sizing: content-box\; font-weight: bolder\; inset: auto\; clear: none\; color: inherit\; content: normal\; direction: inherit\; empty-cells: show\; font-style: inherit\; font-variant: inherit\; font-stretch: inherit\; font-size: inherit\; letter-spacing: inherit\; line-height: inherit\; margin: 0px\; max-height: none\; max-width: none\; min-height: initial\; min-width: initial\; opacity: 1\; outline-offset: 0px\; overflow: visible\; padding: 0px\; position: static\; resize: none\; table-layout: auto\; text-align: inherit\; text-indent: inherit\; text-overflow: clip\; text-transform: inherit\; vertical-align: baseline\; visibility: inherit\; white-space: inherit\; word-break: inherit\; word-spacing: inherit\; overflow-wrap: inherit\; z-index: auto\; background: none\; border: none\; border-collapse: separate\; border-radius: 0px\; height: auto\; width: auto\; box-shadow: none\;"><a href="https://business.bethany-fenwick.org/events/details/fire-ice-festival-delmarvalous-21843" style="font: inherit\; box-sizing: content-box\; color: rgb(83\, 116\, 153)\; text-decoration-line: none\; transition: all 0.2s ease 0s\; background: none\; outline: none 0px\; -webkit-tap-highlight-color: rgba(0\, 0\, 0\, 0.3)\; inset: auto\; clear: none\; content: normal\; direction: inherit\; display: inline\; empty-cells: show\; float: none\; letter-spacing: inherit\; margin: 0px\; max-height: none\; max-width: none\; min-height: initial\; min-width: initial\; opacity: 1\; outline-offset: 0px\; overflow: visible\; padding: 0px\; position: static\; resize: none\; table-layout: auto\; text-align: inherit\; text-indent: inherit\; text-overflow: clip\; text-transform: inherit\; vertical-align: baseline\; visibility: inherit\; white-space: inherit\; word-break: inherit\; word-spacing: inherit\; overflow-wrap: break-word\; z-index: auto\; border: none\; border-collapse: separate\; border-radius: 0px\; height: auto\; width: auto\; box-shadow: none\;" target="_blank">click here</a></span>.</span></div>\n\n<div>\n<div>&nbsp\;</div>\n</div>\n
LOCATION:Lord's Landscaping 35577 Atlantic Avenue Millville\, DE 19967
UID:e.2126.21874
SEQUENCE:3
DTSTAMP:20260425T024613Z
URL:https://business.bethany-fenwick.org/events/details/fire-ice-delmarvalous-festival-tour-de-fuego-21874
END:VEVENT

END:VCALENDAR
