BEGIN:VCALENDAR
VERSION:2.0
PRODID:-//ChamberMaster//Event Calendar 2.0//EN
METHOD:PUBLISH
X-PUBLISHED-TTL:P3D
REFRESH-INTERVAL:P3D
CALSCALE:GREGORIAN
BEGIN:VEVENT
DTSTART;VALUE=DATE:20220211
DTEND;VALUE=DATE:20220213
TRANSP:TRANSPARENT
X-MICROSOFT-CDO-ALLDAYEVENT:TRUE
SUMMARY:Fire & Ice Festival - "Rock 'n' Roll" - Millville Boardwalk Happenings
DESCRIPTION:Enjoy a week dazzling ice sculptures\, toasty bonfires\, arcade games at Captains Quarters\, a game at Lighthouse Mini Golf\, and a featured Rock 'n' Roll themed ice cream from Agape Creamery! \n\n\n\nFriday\, February 11th\n\nMillville Boardwalk Ice Tour 5:00 - 9:00 pm\n\nFree to the public\, start out your weekend by checking out 1\,800 pounds of one of kind ice  sculptures from Ice Lab\, enjoying some s'mores and staying warm at the bonfires at Millville Boardwalk.\n\n\n\nSaturday\, February 12th\n\nRock 'n' Roll Carnival 1:00 - 4:00 pm\n\nMillville Boardwalk will be hosting this weekend with one of their many kid friendly activities! \n\nWhile you're here enjoy $5 Mini Golf from Lighthouse Beach Golf all Fire 'n' Ice weekend on our challenging and fun 18 hole golf course!\n\n\n\nOther activities include\n\n\n	Rock'n Balloon Art\n	Face Painting \n	See Friday's ice sculptures if weather permits\n	& Much More!\n\nBonfires and S'mores 6:00 - 9:00 pm\n\nFor more information on Fire & Ice Festival click here to check out our all-weekend festivities!
X-ALT-DESC;FMTTYPE=text/html:<p><span style="color: rgb(51\, 51\, 51)\; background-color: rgb(255\, 255\, 255)\; font-family: &quot\;Helvetica Neue&quot\;\, Helvetica\, Arial\, sans-serif\; font-size: 15px\;"><span style="font-family: arial\;"><span style="font-size:14px\;">Enjoy a week&nbsp\;dazzling ice sculptures\, toasty bonfires\, arcade games at Captains Quarters\, a game at Lighthouse Mini Golf\, and a featured Rock &#39\;n&#39\; Roll themed ice cream from Agape Creamery!&nbsp\;</span></span></span><br />\n<br />\n<font color="#0000ff" face="arial"><span style="font-size: 18px\;"><strong>Friday\, February 11th</strong><br />\n<span style="font-size:16px\;">Millville Boardwalk Ice Tour 5:00 - 9:00 pm</span></span></font><br />\n<span style="font-family: arial\; font-size: 14px\;">Free to the public\, start out your weekend by checking out 1\,800 pounds of&nbsp\;one of kind ice &nbsp\;sculptures from Ice Lab\, enjoying some s&#39\;mores and staying warm at the bonfires at Millville Boardwalk.</span></p>\n\n<p><br />\n<strong><span style="color: rgb(51\, 51\, 51)\; font-family: sans-serif\, Arial\, Verdana\, &quot\;Trebuchet MS&quot\;\; font-size: 14px\;"><span style="font-family: arial\;"><span style="font-size: 18px\;"><span style="color: rgb(0\, 0\, 255)\;">Saturday\, February 12th</span></span></span></span></strong><br style="color: rgb(51\, 51\, 51)\; font-family: sans-serif\, Arial\, Verdana\, &quot\;Trebuchet MS&quot\;\; font-size: 13px\;" />\n<span style="color: rgb(0\, 0\, 255)\; font-family: arial\; font-size: 16px\;">Rock &#39\;n&#39\; Roll Carnival 1:00 - 4:00 pm</span><br style="color: rgb(51\, 51\, 51)\; font-family: sans-serif\, Arial\, Verdana\, &quot\;Trebuchet MS&quot\;\; font-size: 13px\;" />\n<span style="font-size:14px\;"><span style="color: rgb(51\, 51\, 51)\; font-family: sans-serif\, Arial\, Verdana\, &quot\;Trebuchet MS&quot\;\;"><span style="font-family: arial\;">Millville Boardwalk will be hosting this weekend with one of their&nbsp\;many kid friendly activities!&nbsp\;</span></span><br />\nWhile you&#39\;re here enjoy&nbsp\;$5 Mini Golf from Lighthouse Beach Golf&nbsp\;all Fire &#39\;n&#39\;&nbsp\;Ice weekend on our&nbsp\;challenging and fun 18 hole golf course!<br />\n<br />\nOther activities include</span></p>\n\n<ul>\n	<li>Rock&#39\;n Balloon Art</li>\n	<li>Face Painting&nbsp\;</li>\n	<li>See Friday&#39\;s ice sculptures if weather permits</li>\n	<li>&amp\; Much More!</li>\n</ul>\n<span style="color: rgb(0\, 0\, 255)\; font-family: arial\; font-size: 16px\; background-color: rgb(255\, 255\, 255)\;">Bonfires and S&#39\;mores 6:00 - 9:00 pm</span>\n\n<p><span style="font-size:14px\;"><span style="color: rgb(51\, 51\, 51)\; font-family: sans-serif\, Arial\, Verdana\, &quot\;Trebuchet MS&quot\;\; background-color: rgb(255\, 255\, 255)\;">For more information on Fire &amp\; Ice Festival&nbsp\;click&nbsp\;</span><a href="https://fireandicede.com/" style="color: rgb(7\, 130\, 193)\; font-family: sans-serif\, Arial\, Verdana\, &quot\;Trebuchet MS&quot\;\; font-size: 13px\;">here</a><span style="color: rgb(51\, 51\, 51)\; font-family: sans-serif\, Arial\, Verdana\, &quot\;Trebuchet MS&quot\;\; background-color: rgb(255\, 255\, 255)\;">&nbsp\;to check out our all-weekend festivities!&nbsp\;</span></span><br />\n&nbsp\;</p>\n
LOCATION:Millville Boardwalk 35287 Atlantic Ave. Millville\, DE 19967
UID:e.2126.23326
SEQUENCE:3
DTSTAMP:20260424T070828Z
URL:https://business.bethany-fenwick.org/events/details/fire-ice-festival-rock-n-roll-millville-boardwalk-happenings-23326
END:VEVENT

END:VCALENDAR
