BEGIN:VCALENDAR
VERSION:2.0
PRODID:-//ChamberMaster//Event Calendar 2.0//EN
METHOD:PUBLISH
X-PUBLISHED-TTL:P3D
REFRESH-INTERVAL:P3D
CALSCALE:GREGORIAN
BEGIN:VEVENT
DTSTART:20220211T170000Z
DTEND:20220213T010000Z
X-MICROSOFT-CDO-ALLDAYEVENT:FALSE
SUMMARY:Fire & Ice Festival - Rock 'n' Roll - Town of Ocean View John West Park - Beer Garden
DESCRIPTION:That's right\, come warm up with some festive cheer! Fire pits and spirits to fuel the winter fire. Enjoy alongside food from Kristina's Kitchen from 12:00 - 4:00 pm. Proceeds from Beer Garden will sponsor Santa's Letters. \n\n\n\nTastings from\n\n	Dewey Beer Co.\n	\n		Saturday 12:00 - 3:00 pm.\n	\n	\n	Salted Vines \n\n\n\n	\n		\n		\n		\n		\n	\n	\n		\n			Menu\n			Provided by \n			Percentage\n			Price per glass/can\n		\n		\n			Pinot Grigio\n			Salted Vines\n			 \n			$8\n		\n		\n			Niagara \n			Salted Vines\n			 \n			$8\n		\n		\n			Concord \n			Salted Vines\n			 \n			$8\n		\n		\n			Teroldego \n			Salted Vines\n			 \n			$8\n		\n		\n			Miller Lite \n			Beach Liquors \n			 \n			$3\n		\n		\n			Dogfish 60 min  \n			Beach Liquors \n			 \n			$4\n		\n		\n			Longboard Lager\n			Beach Liquors \n			 \n			$4\n		\n		\n			White Claw Seltzer\n			Beach Liquors \n			 \n			$4\n		\n		\n			Swishy Pants IPA\n			Dewey Beer Co\n			7.50%\n			$7\n		\n		\n			El Trono Lager \n			Dewey Beer Co\n			4.50%\n			$6\n		\n		\n			Jackpot \n			Crooked Hammock \n			5.80%\n			                                     $5\n		\n		\n			Lift Ticket \n			Crooked Hammock \n			7.70%\n			                                    $5
X-ALT-DESC;FMTTYPE=text/html:<span style="color: rgb(51\, 51\, 51)\; font-family: sans-serif\, Arial\, Verdana\, &quot\;Trebuchet MS&quot\;\; font-size: 14px\;"><span style="font-family: arial\;">That&rsquo\;s right\, come warm up with some festive cheer! Fire pits and spirits to fuel the winter fire.&nbsp\;</span></span><span style="color: rgb(51\, 51\, 51)\; background-color: rgb(255\, 255\, 255)\; font-family: arial\; font-size: 14px\;">Enjoy alongside food from Kristina&#39\;s Kitchen from 12:00 - 4:00 pm.</span><span style="color: rgb(51\, 51\, 51)\; font-family: sans-serif\, Arial\, Verdana\, &quot\;Trebuchet MS&quot\;\; font-size: 14px\;"><span style="font-family: arial\;">&nbsp\;Proceeds from Beer Garden will sponsor Santa&#39\;s Letters.&nbsp\;</span><br />\n<br />\nTastings from</span>\n<ul style="padding: 0px 40px\; color: rgb(51\, 51\, 51)\; font-family: sans-serif\, Arial\, Verdana\, &quot\;Trebuchet MS&quot\;\; font-size: 13px\;">\n	<li><span style="font-size: 14px\;">Dewey Beer Co.</span>\n	<ul>\n		<li><span style="font-size: 14px\;">Saturday&nbsp\;12:00 - 3:00 pm.</span></li>\n	</ul>\n	</li>\n	<li><span style="font-size: 14px\;">Salted Vines&nbsp\;</span></li>\n</ul>\n\n<table border="0" cellpadding="0" cellspacing="0" style="border-collapse:collapse\;width:488px\;" width="487">\n	<colgroup>\n		<col style="width:127px\;" />\n		<col style="width:128px\;" />\n		<col style="width:93px\;" />\n		<col style="width:140px\;" />\n	</colgroup>\n	<tbody>\n		<tr height="20" style="height:20px\;">\n			<td height="20" style="height:20px\;width:127px\;font-size:11pt\;color:white\;font-weight:700\;font-family:Calibri\, sans-serif\;border-top:0.5pt solid rgb(68\, 114\, 196)\;border-right:none\;border-bottom:none\;border-left:0.5pt solid rgb(68\, 114\, 196)\;background:rgb(68\, 114\, 196)\;">Menu</td>\n			<td style="width:128px\;font-size:11pt\;color:white\;font-weight:700\;font-family:Calibri\, sans-serif\;border-top:0.5pt solid rgb(68\, 114\, 196)\;border-right:none\;border-bottom:none\;border-left:none\;background:rgb(68\, 114\, 196)\;">Provided by&nbsp\;</td>\n			<td style="width:93px\;font-size:11pt\;color:white\;font-weight:700\;font-family:Calibri\, sans-serif\;border-top:0.5pt solid rgb(68\, 114\, 196)\;border-right:none\;border-bottom:none\;border-left:none\;background:rgb(68\, 114\, 196)\;">Percentage</td>\n			<td style="width:140px\;font-size:11pt\;color:white\;font-weight:700\;font-family:Calibri\, sans-serif\;border-top:0.5pt solid rgb(68\, 114\, 196)\;border-right:none\;border-bottom:none\;border-left:none\;background:rgb(68\, 114\, 196)\;">Price per glass/can</td>\n		</tr>\n		<tr height="20" style="height:20px\;">\n			<td height="20" style="height:20px\;font-size:11pt\;font-family:Calibri\, sans-serif\;border-top:0.5pt solid rgb(68\, 114\, 196)\;border-right:none\;border-bottom:none\;border-left:0.5pt solid rgb(68\, 114\, 196)\;">Pinot Grigio</td>\n			<td style="font-size:11pt\;font-family:Calibri\, sans-serif\;border-top:0.5pt solid rgb(68\, 114\, 196)\;border-right:none\;border-bottom:none\;border-left:none\;">Salted Vines</td>\n			<td style="font-size:11pt\;font-family:Calibri\, sans-serif\;border-top:0.5pt solid rgb(68\, 114\, 196)\;border-right:none\;border-bottom:none\;border-left:none\;">&nbsp\;</td>\n			<td align="right" style="font-size:11pt\;font-family:Calibri\, sans-serif\;border-top:0.5pt solid rgb(68\, 114\, 196)\;border-right:none\;border-bottom:none\;border-left:none\;">$8</td>\n		</tr>\n		<tr height="20" style="height:20px\;">\n			<td height="20" style="height:20px\;font-size:11pt\;font-family:Calibri\, sans-serif\;border-top:0.5pt solid rgb(68\, 114\, 196)\;border-right:none\;border-bottom:none\;border-left:0.5pt solid rgb(68\, 114\, 196)\;">Niagara&nbsp\;</td>\n			<td style="font-size:11pt\;font-family:Calibri\, sans-serif\;border-top:0.5pt solid rgb(68\, 114\, 196)\;border-right:none\;border-bottom:none\;border-left:none\;">Salted Vines</td>\n			<td style="font-size:11pt\;font-family:Calibri\, sans-serif\;border-top:0.5pt solid rgb(68\, 114\, 196)\;border-right:none\;border-bottom:none\;border-left:none\;">&nbsp\;</td>\n			<td align="right" style="font-size:11pt\;font-family:Calibri\, sans-serif\;border-top:0.5pt solid rgb(68\, 114\, 196)\;border-right:none\;border-bottom:none\;border-left:none\;">$8</td>\n		</tr>\n		<tr height="20" style="height:20px\;">\n			<td height="20" style="height:20px\;font-size:11pt\;font-family:Calibri\, sans-serif\;border-top:0.5pt solid rgb(68\, 114\, 196)\;border-right:none\;border-bottom:none\;border-left:0.5pt solid rgb(68\, 114\, 196)\;">Concord&nbsp\;</td>\n			<td style="font-size:11pt\;font-family:Calibri\, sans-serif\;border-top:0.5pt solid rgb(68\, 114\, 196)\;border-right:none\;border-bottom:none\;border-left:none\;">Salted Vines</td>\n			<td style="font-size:11pt\;font-family:Calibri\, sans-serif\;border-top:0.5pt solid rgb(68\, 114\, 196)\;border-right:none\;border-bottom:none\;border-left:none\;">&nbsp\;</td>\n			<td align="right" style="font-size:11pt\;font-family:Calibri\, sans-serif\;border-top:0.5pt solid rgb(68\, 114\, 196)\;border-right:none\;border-bottom:none\;border-left:none\;">$8</td>\n		</tr>\n		<tr height="20" style="height:20px\;">\n			<td height="20" style="height:20px\;font-size:11pt\;font-family:Calibri\, sans-serif\;border-top:0.5pt solid rgb(68\, 114\, 196)\;border-right:none\;border-bottom:none\;border-left:0.5pt solid rgb(68\, 114\, 196)\;">Teroldego&nbsp\;</td>\n			<td style="font-size:11pt\;font-family:Calibri\, sans-serif\;border-top:0.5pt solid rgb(68\, 114\, 196)\;border-right:none\;border-bottom:none\;border-left:none\;">Salted Vines</td>\n			<td style="font-size:11pt\;font-family:Calibri\, sans-serif\;border-top:0.5pt solid rgb(68\, 114\, 196)\;border-right:none\;border-bottom:none\;border-left:none\;">&nbsp\;</td>\n			<td align="right" style="font-size:11pt\;font-family:Calibri\, sans-serif\;border-top:0.5pt solid rgb(68\, 114\, 196)\;border-right:none\;border-bottom:none\;border-left:none\;">$8</td>\n		</tr>\n		<tr height="20" style="height:20px\;">\n			<td height="20" style="height:20px\;font-size:11pt\;font-family:Calibri\, sans-serif\;border-top:0.5pt solid rgb(68\, 114\, 196)\;border-right:none\;border-bottom:none\;border-left:0.5pt solid rgb(68\, 114\, 196)\;">Miller Lite&nbsp\;</td>\n			<td style="font-size:11pt\;font-family:Calibri\, sans-serif\;border-top:0.5pt solid rgb(68\, 114\, 196)\;border-right:none\;border-bottom:none\;border-left:none\;">Beach Liquors&nbsp\;</td>\n			<td style="font-size:11pt\;font-family:Calibri\, sans-serif\;border-top:0.5pt solid rgb(68\, 114\, 196)\;border-right:none\;border-bottom:none\;border-left:none\;">&nbsp\;</td>\n			<td align="right" style="font-size:11pt\;font-family:Calibri\, sans-serif\;border-top:0.5pt solid rgb(68\, 114\, 196)\;border-right:none\;border-bottom:none\;border-left:none\;">$3</td>\n		</tr>\n		<tr height="20" style="height:20px\;">\n			<td height="20" style="height:20px\;font-size:11pt\;font-family:Calibri\, sans-serif\;border-top:0.5pt solid rgb(68\, 114\, 196)\;border-right:none\;border-bottom:none\;border-left:0.5pt solid rgb(68\, 114\, 196)\;">Dogfish 60 min&nbsp\;&nbsp\;</td>\n			<td style="font-size:11pt\;font-family:Calibri\, sans-serif\;border-top:0.5pt solid rgb(68\, 114\, 196)\;border-right:none\;border-bottom:none\;border-left:none\;">Beach Liquors&nbsp\;</td>\n			<td style="font-size:11pt\;font-family:Calibri\, sans-serif\;border-top:0.5pt solid rgb(68\, 114\, 196)\;border-right:none\;border-bottom:none\;border-left:none\;">&nbsp\;</td>\n			<td align="right" style="font-size:11pt\;font-family:Calibri\, sans-serif\;border-top:0.5pt solid rgb(68\, 114\, 196)\;border-right:none\;border-bottom:none\;border-left:none\;">$4</td>\n		</tr>\n		<tr height="20" style="height:20px\;">\n			<td height="20" style="height:20px\;font-size:11pt\;font-family:Calibri\, sans-serif\;border-top:0.5pt solid rgb(68\, 114\, 196)\;border-right:none\;border-bottom:none\;border-left:0.5pt solid rgb(68\, 114\, 196)\;">Longboard Lager</td>\n			<td style="font-size:11pt\;font-family:Calibri\, sans-serif\;border-top:0.5pt solid rgb(68\, 114\, 196)\;border-right:none\;border-bottom:none\;border-left:none\;">Beach Liquors&nbsp\;</td>\n			<td style="font-size:11pt\;font-family:Calibri\, sans-serif\;border-top:0.5pt solid rgb(68\, 114\, 196)\;border-right:none\;border-bottom:none\;border-left:none\;">&nbsp\;</td>\n			<td align="right" style="font-size:11pt\;font-family:Calibri\, sans-serif\;border-top:0.5pt solid rgb(68\, 114\, 196)\;border-right:none\;border-bottom:none\;border-left:none\;">$4</td>\n		</tr>\n		<tr height="20" style="height:20px\;">\n			<td height="20" style="height:20px\;font-size:11pt\;font-family:Calibri\, sans-serif\;border-top:0.5pt solid rgb(68\, 114\, 196)\;border-right:none\;border-bottom:none\;border-left:0.5pt solid rgb(68\, 114\, 196)\;">White Claw Seltzer</td>\n			<td style="font-size:11pt\;font-family:Calibri\, sans-serif\;border-top:0.5pt solid rgb(68\, 114\, 196)\;border-right:none\;border-bottom:none\;border-left:none\;">Beach Liquors&nbsp\;</td>\n			<td style="font-size:11pt\;font-family:Calibri\, sans-serif\;border-top:0.5pt solid rgb(68\, 114\, 196)\;border-right:none\;border-bottom:none\;border-left:none\;">&nbsp\;</td>\n			<td align="right" style="font-size:11pt\;font-family:Calibri\, sans-serif\;border-top:0.5pt solid rgb(68\, 114\, 196)\;border-right:none\;border-bottom:none\;border-left:none\;">$4</td>\n		</tr>\n		<tr height="20" style="height:20px\;">\n			<td height="20" style="height:20px\;font-size:11pt\;font-family:Calibri\, sans-serif\;border-top:0.5pt solid rgb(68\, 114\, 196)\;border-right:none\;border-bottom:none\;border-left:0.5pt solid rgb(68\, 114\, 196)\;">Swishy Pants IPA</td>\n			<td style="font-size:11pt\;font-family:Calibri\, sans-serif\;border-top:0.5pt solid rgb(68\, 114\, 196)\;border-right:none\;border-bottom:none\;border-left:none\;">Dewey Beer Co</td>\n			<td align="right" style="font-size:11pt\;font-family:Calibri\, sans-serif\;border-top:0.5pt solid rgb(68\, 114\, 196)\;border-right:none\;border-bottom:none\;border-left:none\;">7.50%</td>\n			<td align="right" style="font-size:11pt\;font-family:Calibri\, sans-serif\;border-top:0.5pt solid rgb(68\, 114\, 196)\;border-right:none\;border-bottom:none\;border-left:none\;">$7</td>\n		</tr>\n		<tr height="20" style="height:20px\;">\n			<td height="20" style="height:20px\;font-size:11pt\;font-family:Calibri\, sans-serif\;border-top:0.5pt solid rgb(68\, 114\, 196)\;border-right:none\;border-bottom:none\;border-left:0.5pt solid rgb(68\, 114\, 196)\;">El Trono Lager&nbsp\;</td>\n			<td style="font-size:11pt\;font-family:Calibri\, sans-serif\;border-top:0.5pt solid rgb(68\, 114\, 196)\;border-right:none\;border-bottom:none\;border-left:none\;">Dewey Beer Co</td>\n			<td align="right" style="font-size:11pt\;font-family:Calibri\, sans-serif\;border-top:0.5pt solid rgb(68\, 114\, 196)\;border-right:none\;border-bottom:none\;border-left:none\;">4.50%</td>\n			<td align="right" style="font-size:11pt\;font-family:Calibri\, sans-serif\;border-top:0.5pt solid rgb(68\, 114\, 196)\;border-right:none\;border-bottom:none\;border-left:none\;">$6</td>\n		</tr>\n		<tr height="20" style="height:20px\;">\n			<td height="20" style="height:20px\;font-size:11pt\;font-family:Calibri\, sans-serif\;border-top:0.5pt solid rgb(68\, 114\, 196)\;border-right:none\;border-bottom:none\;border-left:0.5pt solid rgb(68\, 114\, 196)\;">Jackpot&nbsp\;</td>\n			<td style="font-size:11pt\;font-family:Calibri\, sans-serif\;border-top:0.5pt solid rgb(68\, 114\, 196)\;border-right:none\;border-bottom:none\;border-left:none\;">Crooked Hammock&nbsp\;</td>\n			<td align="right" style="font-size:11pt\;font-family:Calibri\, sans-serif\;border-top:0.5pt solid rgb(68\, 114\, 196)\;border-right:none\;border-bottom:none\;border-left:none\;">5.80%</td>\n			<td style="font-size:11pt\;font-family:Calibri\, sans-serif\;border-top:0.5pt solid rgb(68\, 114\, 196)\;border-right:none\;border-bottom:none\;border-left:none\;">&nbsp\;&nbsp\;&nbsp\;&nbsp\;&nbsp\;&nbsp\;&nbsp\;&nbsp\;&nbsp\;&nbsp\;&nbsp\;&nbsp\;&nbsp\;&nbsp\;&nbsp\;&nbsp\;&nbsp\;&nbsp\;&nbsp\;&nbsp\;&nbsp\;&nbsp\;&nbsp\;&nbsp\;&nbsp\;&nbsp\;&nbsp\;&nbsp\;&nbsp\;&nbsp\;&nbsp\;&nbsp\;&nbsp\;&nbsp\;&nbsp\;&nbsp\;&nbsp\;$5</td>\n		</tr>\n		<tr height="20" style="height:20px\;">\n			<td height="20" style="height:20px\;font-size:11pt\;font-family:Calibri\, sans-serif\;border-top:0.5pt solid rgb(68\, 114\, 196)\;border-right:none\;border-bottom:0.5pt solid rgb(68\, 114\, 196)\;border-left:0.5pt solid rgb(68\, 114\, 196)\;">Lift Ticket&nbsp\;</td>\n			<td style="font-size:11pt\;font-family:Calibri\, sans-serif\;border-top:0.5pt solid rgb(68\, 114\, 196)\;border-right:none\;border-bottom:0.5pt solid rgb(68\, 114\, 196)\;border-left:none\;">Crooked Hammock&nbsp\;</td>\n			<td align="right" style="font-size:11pt\;font-family:Calibri\, sans-serif\;border-top:0.5pt solid rgb(68\, 114\, 196)\;border-right:none\;border-bottom:0.5pt solid rgb(68\, 114\, 196)\;border-left:none\;">7.70%</td>\n			<td style="font-size:11pt\;font-family:Calibri\, sans-serif\;border-top:0.5pt solid rgb(68\, 114\, 196)\;border-right:none\;border-bottom:0.5pt solid rgb(68\, 114\, 196)\;border-left:none\;">&nbsp\;&nbsp\;&nbsp\;&nbsp\;&nbsp\;&nbsp\;&nbsp\;&nbsp\;&nbsp\;&nbsp\;&nbsp\;&nbsp\;&nbsp\;&nbsp\;&nbsp\;&nbsp\;&nbsp\;&nbsp\;&nbsp\;&nbsp\;&nbsp\;&nbsp\;&nbsp\;&nbsp\;&nbsp\;&nbsp\;&nbsp\;&nbsp\;&nbsp\;&nbsp\;&nbsp\;&nbsp\;&nbsp\; &nbsp\; $5</td>\n		</tr>\n	</tbody>\n</table>\n
LOCATION:John West Park 32 West Avenue Ocean View\, DE 19970
UID:e.2126.23443
SEQUENCE:3
DTSTAMP:20260424T072407Z
URL:https://business.bethany-fenwick.org/events/details/fire-ice-festival-rock-n-roll-town-of-ocean-view-john-west-park-beer-garden-23443
END:VEVENT

END:VCALENDAR
