BEGIN:VCALENDAR
VERSION:2.0
PRODID:-//ChamberMaster//Event Calendar 2.0//EN
METHOD:PUBLISH
X-PUBLISHED-TTL:P3D
REFRESH-INTERVAL:P3D
CALSCALE:GREGORIAN
BEGIN:VEVENT
DTSTART:20240202T220000Z
DTEND:20240203T000000Z
X-MICROSOFT-CDO-ALLDAYEVENT:FALSE
SUMMARY:First Friday Opening Reception at Art League of OC
DESCRIPTION:Meet the artists\, enjoy hors d'oeuvres\, and see the new exhibits by a variety of local artists at the Art League of Ocean City on 94th street! FREE. All are welcome. Refreshments sponsored by PKS Investments.\n\nFeaturing:\n\n\n	"Perspective"\, all-media group show\n	David Smith\, 2023 Robinson Fellow and Salisbury University professor\n	Six Views of Yellowstone\, photography in Studio E\n	Kennie Jones in the Spotlight Gallery
X-ALT-DESC;FMTTYPE=text/html:<p>Meet the artists\, enjoy hors d&rsquo\;oeuvres\, and see the new exhibits by a variety of local artists at the Art League of Ocean City on 94th street!&nbsp\;FREE. All are welcome. Refreshments sponsored by PKS Investments.</p>\n\n<p>Featuring:</p>\n\n<ul>\n	<li><strong>&ldquo\;Perspective&rdquo\;</strong>\, all-media group show</li>\n	<li><strong>David Smith</strong>\, 2023 Robinson Fellow and Salisbury University professor</li>\n	<li><strong>Six Views of Yellowstone</strong>\, photography&nbsp\;in Studio E</li>\n	<li><strong>Kennie Jones</strong>&nbsp\;in the Spotlight Gallery</li>\n</ul>\n
LOCATION:Art League of Ocean City 502 94th Street Ocean City\, MD 21842
UID:e.2126.27396
SEQUENCE:3
DTSTAMP:20260420T112946Z
URL:https://business.bethany-fenwick.org/events/details/first-friday-opening-reception-at-art-league-of-oc-27396
END:VEVENT

END:VCALENDAR
