BEGIN:VCALENDAR
VERSION:2.0
PRODID:-//ChamberMaster//Event Calendar 2.0//EN
METHOD:PUBLISH
X-PUBLISHED-TTL:P3D
REFRESH-INTERVAL:P3D
CALSCALE:GREGORIAN
BEGIN:VEVENT
DTSTART:20240802T210000Z
DTEND:20240802T230000Z
X-MICROSOFT-CDO-ALLDAYEVENT:FALSE
SUMMARY:First Friday Opening Reception for August Exhibits at Art League of OC
DESCRIPTION:Meet the artists at the First Friday Reception for August Exhibits at the Art League of Ocean City.\n\n\n\nEnjoy hors d'oeuvres\, music\, and see the new exhibits by a variety of local artists.\n\n\n\nFREE. All are welcome.\n\nFeaturing:\n\n\n	"Lasting Legacies" paintings by Kevin Fitzgerald & Evan Fitzgerald\n	"Beverly Bassford Memorial Juried Show" continues through August 15\n	Photography by John Carter in Studio E\n	Plein Air paintings by the late Ray Ewing in the Spotlight Gallery\n	"Different Imagination" by Elizabeth Grey continues in the Staircase Gallery\n\n\nWine bar sponsored by PKS Investments.\n\n\n\nOrange crush\, oyster bar\, and music sponsored by Surf House Properties.
X-ALT-DESC;FMTTYPE=text/html:<p>Meet the artists at the First Friday Reception for August Exhibits at the Art League of Ocean City.<br />\n<br />\nEnjoy hors d&rsquo\;oeuvres\, music\, and see the new exhibits by a variety of local artists.<br />\n<br />\nFREE. All are welcome.</p>\n\n<p>Featuring:</p>\n\n<ul>\n	<li><strong>&ldquo\;Lasting Legacies&rdquo\;&nbsp\;</strong>paintings by&nbsp\;<strong>Kevin Fitzgerald &amp\; Evan Fitzgerald</strong></li>\n	<li><strong>&ldquo\;Beverly Bassford Memorial Juried Show&rdquo\;</strong>&nbsp\;continues through August 15</li>\n	<li>Photography by<strong>&nbsp\;John Carter</strong>&nbsp\;in Studio E</li>\n	<li>Plein Air paintings by the late&nbsp\;<strong>Ray Ewing&nbsp\;</strong>in the Spotlight Gallery</li>\n	<li><strong>&ldquo\;Different Imagination&rdquo\;</strong>&nbsp\;by&nbsp\;<strong>Elizabeth Grey</strong>&nbsp\;continues in the Staircase Gallery</li>\n</ul>\n\n<p>Wine bar sponsored by PKS Investments.<br />\n<br />\nOrange crush\, oyster bar\, and music sponsored by Surf House Properties.</p>\n
LOCATION:The Art League of Ocean City 502 94th St. Ocean City\, MD 21842
UID:e.2126.30568
SEQUENCE:3
DTSTAMP:20260420T163815Z
URL:https://business.bethany-fenwick.org/events/details/first-friday-opening-reception-for-august-exhibits-at-art-league-of-oc-30568
END:VEVENT

END:VCALENDAR
