BEGIN:VCALENDAR
VERSION:2.0
PRODID:-//ChamberMaster//Event Calendar 2.0//EN
METHOD:PUBLISH
X-PUBLISHED-TTL:P3D
REFRESH-INTERVAL:P3D
CALSCALE:GREGORIAN
BEGIN:VEVENT
DTSTART:20240706T150000Z
DTEND:20240706T170000Z
X-MICROSOFT-CDO-ALLDAYEVENT:FALSE
SUMMARY:FREE Kids Craft at Art League of OC
DESCRIPTION:Bring the kids and do something creative with them and for them. Our summer Saturday projects will change every week\, so come more than once! No reservations needed. Free and open to all!
X-ALT-DESC;FMTTYPE=text/html:<div>\n<p>Bring the kids and do something creative with them and for them. Our summer Saturday projects will change every week\, so come more than once! No reservations needed. Free and open to all!</p>\n</div>\n\n<div>\n<ul style="list-style-type:none">\n</ul>\n</div>\n
LOCATION:The Art League of Ocean City 502 94th St. Ocean City\, MD 21842
UID:e.2126.30360
SEQUENCE:3
DTSTAMP:20260420T134624Z
URL:https://business.bethany-fenwick.org/events/details/free-kids-craft-at-art-league-of-oc-07-06-2024-30360
END:VEVENT

END:VCALENDAR
