BEGIN:VCALENDAR
VERSION:2.0
PRODID:-//ChamberMaster//Event Calendar 2.0//EN
METHOD:PUBLISH
X-PUBLISHED-TTL:P3D
REFRESH-INTERVAL:P3D
CALSCALE:GREGORIAN
BEGIN:VEVENT
DTSTART:20250510T230000Z
DTEND:20250511T020000Z
X-MICROSOFT-CDO-ALLDAYEVENT:FALSE
SUMMARY:Full Moon Party at Big Chill Beach Club
DESCRIPTION:Join Big Chill Beach Club in Bethany Beach under the glow of the full moon on Saturday\, May 10th from 7-10 PM for their Full Moon Party!\n\n\n\nStep into a night of music\, movement\, and magic and honor the time-honored tradition of celebrating the full moon a moment to release\, reconnect\, and dance under the night sky.\n\n\n\nThe festivities begin at 7 pm in the sand pit with a silent disco dance party! Grab a free set of headphones and choose between two curated playlists to dance the night away. Let loose\, soak in the energy\, and make unforgettable memories under the full moon.\n\n\n\nMeanwhile\, keep the good vibes going in our Sunset Lounge\, where DJ Gregg will be spinning the best beats from 6-9 pm. Get ready for a night of music\, dancing\, and celebration!
X-ALT-DESC;FMTTYPE=text/html:<span style="color:rgb(0\, 0\, 0)\; font-family:din condensed\; font-size:16px">Join Big Chill Beach Club in Bethany Beach under the glow of the full moon on Saturday\, May 10th from 7-10 PM for their Full&nbsp\;Moon&nbsp\;Party!</span><br />\n<br />\n<span style="color:rgb(0\, 0\, 0)\; font-family:din condensed\; font-size:16px">Step into a night of music\, movement\, and magic and honor the time-honored tradition of celebrating the full moon&mdash\;a moment to release\, reconnect\, and dance under the&nbsp\;night&nbsp\;sky.</span><br />\n<br />\n<span style="color:rgb(0\, 0\, 0)\; font-family:din condensed\; font-size:16px">The festivities begin at 7 pm in the sand pit with a silent disco dance party! Grab a free set of headphones and choose between two curated playlists to dance the night away. Let loose\, soak in the energy\, and make unforgettable memories under the&nbsp\;full&nbsp\;moon.</span><br />\n<br />\n<span style="color:rgb(0\, 0\, 0)\; font-family:din condensed\; font-size:16px">Meanwhile\, keep the good vibes going in our Sunset Lounge\, where DJ Gregg will be spinning the best beats from 6-9 pm. Get ready for a night of music\, dancing\,&nbsp\;and&nbsp\;celebration!</span>\n<div>&nbsp\;</div>\n
LOCATION:
UID:e.2126.38265
SEQUENCE:3
DTSTAMP:20260422T131044Z
URL:https://business.bethany-fenwick.org/events/details/full-moon-party-at-big-chill-beach-club-38265
END:VEVENT

END:VCALENDAR
