BEGIN:VCALENDAR
VERSION:2.0
PRODID:-//ChamberMaster//Event Calendar 2.0//EN
METHOD:PUBLISH
X-PUBLISHED-TTL:P3D
REFRESH-INTERVAL:P3D
CALSCALE:GREGORIAN
BEGIN:VEVENT
DTSTART:20250503T150000Z
DTEND:20250503T170000Z
X-MICROSOFT-CDO-ALLDAYEVENT:FALSE
SUMMARY:Fun for the Roses
DESCRIPTION:Spend Kentucky Derby Day the old fashioned way with "Fun for the Roses" Saturday\, May 3rd from 11 - 1 at the Dinker-Irvin Museum in Bethany Beach. There will be live music by the First State Harmonizers and fun activities for all ages. This event also celebrates the 3rd year anniversary of the Dinker-Irvin Museum and launches its summer hours (M\,W\,F 10 am - noon).
X-ALT-DESC;FMTTYPE=text/html:<span style="color:rgb(8\, 8\, 9)\; font-family:segoe ui historic\,segoe ui\,helvetica\,arial\,sans-serif\; font-size:15px">Spend Kentucky Derby Day the old fashioned way with &quot\;Fun for the Roses&quot\; Saturday\, May 3rd from 11 - 1 at the Dinker-Irvin Museum in Bethany Beach. There will be live music by the First State Harmonizers and fun activities for all ages. This event also celebrates the 3rd year anniversary of the Dinker-Irvin Museum and launches its summer hours (M\,W\,F 10 am - noon).</span>
LOCATION:
UID:e.2126.38246
SEQUENCE:3
DTSTAMP:20260422T130910Z
URL:https://business.bethany-fenwick.org/events/details/fun-for-the-roses-38246
END:VEVENT

END:VCALENDAR
