BEGIN:VCALENDAR
VERSION:2.0
PRODID:-//ChamberMaster//Event Calendar 2.0//EN
METHOD:PUBLISH
X-PUBLISHED-TTL:P3D
REFRESH-INTERVAL:P3D
CALSCALE:GREGORIAN
BEGIN:VEVENT
DTSTART:20240213T200000Z
DTEND:20240213T230000Z
X-MICROSOFT-CDO-ALLDAYEVENT:FALSE
SUMMARY:GAL-entine's DIY Day at Board & Brush
DESCRIPTION:Looking for a fun way to connect with the gals? Join our most popular DIY workshop and create your own unique wood sign! Select a wood project from our gallery. We provide all the materials and instruct you step-by-step to create a beautiful piece for your home or for a gift. Choose from a variety of paint and wood stain colors in the workshop. Pre-registration is required. We look forward to seeing you soon!
X-ALT-DESC;FMTTYPE=text/html:<span style="color:rgb(74\, 74\, 74)\; font-family:droid_sansregular\,sans-serif\; font-size:16px">Looking for a fun way to connect with the gals? Join our most popular DIY workshop and create your own unique wood sign! Select a wood project from our gallery. We provide all the materials and instruct you step-by-step to create a beautiful piece for your home or for a gift. Choose from a variety of paint and wood stain colors in the workshop. Pre-registration is required. We look forward to seeing you soon!</span>
LOCATION:30447 Cedar Neck Rd Unit 2 Ocean View\, DE 19970
UID:e.2126.27773
SEQUENCE:3
DTSTAMP:20260420T123929Z
URL:https://business.bethany-fenwick.org/events/details/gal-entine-s-diy-day-at-board-brush-27773
END:VEVENT

END:VCALENDAR
