BEGIN:VCALENDAR
VERSION:2.0
PRODID:-//ChamberMaster//Event Calendar 2.0//EN
METHOD:PUBLISH
X-PUBLISHED-TTL:P3D
REFRESH-INTERVAL:P3D
CALSCALE:GREGORIAN
BEGIN:VEVENT
DTSTART:20260521T133000Z
DTEND:20260521T143000Z
X-MICROSOFT-CDO-ALLDAYEVENT:FALSE
SUMMARY:Garden Yoga at the Delaware Botanic Gardens
DESCRIPTION:As part of "Mindful May"\, the Delaware Botanic Gardens (DBG) is hosting Yoga throughout the month. \n\nJoin local Yoga instructors for Gentle Hatha Yoga at the Gardens in Dagsboro.  This hour long class yoga is a slow-paced\, accessible practice focusing on holding poses\, stretching\, and mindful breathing to increase flexibility\, reduce stress\, and improve body awareness.\n\nPlease check in at the Welcome Center to access the Gardens.  The Gardens open at 9 AM and classes begin promptly at 9:30 AM.\n\nPlease bring your own yoga mat and any yoga props your may prefer.\n\nCome out and enjoy the fresh air and Garden blooms.\n\nMeet your instructors:\n\nMay 7 & 14 - Hiba Stancofski\n\nLewes resident Hiba Stancofski\, shifted from a research biologist career years ago to the world of yoga\, and has been teaching yoga for over 12 years now.\n\nHiba is a 500-hour certified yoga teacher (in vinyasa yoga\, yoga philosophy\, yoga for trauma level 1\, yoga for cancer\, restorative yoga\, Svaroopa yoga foundations\, Yin yoga). She is also a "Let Your Yoga Dance" instructor\, a mindfulness instructor\, a Reiki level II healer\, and author of state and national award-winning children's book "I Feel Better Now" which introduces children to the tools of yoga and mindfulness to better self-regulate during life's struggles.\n\nHiba has taught yoga at the Delaware Breast Cancer Coalition\, the American Cancer Society\, and the Cancer Support Community. She has guest taught for several D1 and D3 college athletic teams\, has taught yoga at women's retreats in Sedona\, AZ\, and has taught mindfulness in schools. Hiba also hosts self-care yoga retreats at the Himalayan Institute in Honesdale\, PA\, every Fall.\n\nHiba regularly teaches yoga at Involution Yoga Studio in Lewes\, DE\, leads yoga practices for Beebe Healthcare staff\, and offers yoga to several athletic teams at Cape Henlopen High School. She integrates mindfulness in all of her yoga classes.  For more information\, please visit https://www.hibastancofski.com/\n\nMay 21 & 28 - Tara Gush\n\nTara Gush is a 200-hour certified yoga teacher\, trauma-informed yoga facilitator\, and breathwork guide who blends mindful movement with nervous system science. With additional training in yoga for recovery\, meditation\, breathwork\, Pilates\, and applied neuroscience\, Tara designs classes that support both physical strength\, emotional resilience and stress relief.\n\nHer teaching integrates intentional breath\, steady sequencing\, and grounded awareness to help students move out of stress mode and back into embodied presence. Tara believes yoga is not about performance   it's about regulation\, reconnection\, and returning home to yourself. Through compassionate cueing and thoughtful pacing\, she creates a supportive space where students can build stability\, explore their edge safely\, and experience movement as a pathway to whatever the mind and body need in the moment.\n\nFor Tara\, the breath and movement is the bridge   and every flow is an invitation to cross it.
X-ALT-DESC;FMTTYPE=text/html:<p><span style="font-size:16px\;"><span style="font-family:arial\;">As part of &quot\;Mindful May&quot\;\, the Delaware Botanic Gardens (DBG) is hosting Yoga throughout the month.&nbsp\;</span></span></p>\n\n<p><span style="font-size:16px\;"><span style="font-family:arial\;">Join local Yoga instructors for Gentle Hatha Yoga at the Gardens in Dagsboro.&nbsp\; This hour long class yoga is a slow-paced\, accessible practice focusing on holding poses\, stretching\, and mindful breathing to increase flexibility\, reduce stress\, and improve body awareness.</span></span></p>\n\n<p><span style="font-size:16px\;"><span style="font-family:arial\;">Please check in at the Welcome Center to access the Gardens.&nbsp\; The Gardens open at 9 AM and classes begin promptly at 9:30 AM.</span></span></p>\n\n<p><span style="font-size:16px\;"><span style="font-family:arial\;">Please bring your own yoga mat and any yoga props your may prefer.</span></span></p>\n\n<p><span style="font-size:16px\;"><span style="font-family:arial\;">Come out and enjoy the fresh air and Garden blooms.</span></span></p>\n\n<p><span style="font-size:16px\;"><span style="font-family:arial\;"><u>Meet your instructors:</u></span></span></p>\n\n<p><span style="font-size:16px\;"><span style="font-family:arial\;">May 7 &amp\; 14 - Hiba Stancofski</span></span></p>\n\n<p><span style="font-size:16px\;"><span style="font-family:arial\;">Lewes resident Hiba Stancofski\, shifted from a research biologist career years ago to the world of yoga\, and has been teaching yoga for over 12 years now.<br />\nHiba is a 500-hour certified yoga teacher (in vinyasa yoga\, yoga philosophy\, yoga for trauma level 1\, yoga for cancer\, restorative yoga\, Svaroopa yoga foundations\, Yin yoga). She is also a &ldquo\;Let Your Yoga Dance&rdquo\; instructor\, a mindfulness instructor\, a Reiki level II healer\, and author of state and national award-winning children&rsquo\;s book &ldquo\;I Feel Better Now&rdquo\; which introduces children to the tools of yoga and mindfulness to better self-regulate during life&rsquo\;s struggles.<br />\nHiba has taught yoga at the Delaware Breast Cancer Coalition\, the American Cancer Society\, and the Cancer Support Community. She has guest taught for several D1 and D3 college athletic teams\, has taught yoga at women&rsquo\;s retreats in Sedona\, AZ\, and has taught mindfulness in schools. Hiba also hosts self-care yoga retreats at the Himalayan Institute in Honesdale\, PA\, every Fall.<br />\nHiba regularly teaches yoga at Involution Yoga Studio in Lewes\, DE\, leads yoga practices for Beebe Healthcare staff\, and offers yoga to several athletic teams at Cape Henlopen High School. She integrates mindfulness in all of her yoga classes.&nbsp\; For more information\, please visit&nbsp\;<a href="https://www.hibastancofski.com/" rel="nofollow" style="box-sizing: border-box\; color: rgb(0\, 0\, 0)\;">https://www.hibastancofski.com/</a></span></span></p>\n\n<p><span style="font-size:16px\;"><span style="font-family:arial\;">May 21 &amp\; 28 - Tara Gush</span></span></p>\n\n<p><span style="font-size:16px\;"><span style="font-family:arial\;">Tara Gush is a 200-hour certified yoga teacher\, trauma-informed yoga facilitator\, and breathwork guide who blends mindful movement with nervous system science. With additional training in yoga for recovery\, meditation\, breathwork\, Pilates\, and applied neuroscience\, Tara designs classes that support both physical strength\, emotional resilience and stress relief.</span></span></p>\n\n<p><span style="font-size:16px\;"><span style="font-family:arial\;">Her teaching integrates intentional breath\, steady sequencing\, and grounded awareness to help students move out of stress mode and back into embodied presence. Tara believes yoga is not about performance &mdash\; it&rsquo\;s about regulation\, reconnection\, and returning home to yourself. Through compassionate cueing and thoughtful pacing\, she creates a supportive space where students can build stability\, explore their edge safely\, and experience movement as a pathway to whatever the mind and body need in the moment.</span></span></p>\n\n<p><span style="font-size:16px\;"><span style="font-family:arial\;">For Tara\, the breath and movement is the bridge &mdash\; and every flow is an invitation to cross it.</span></span></p>\n
LOCATION:
UID:e.2126.44081
SEQUENCE:3
DTSTAMP:20260425T110607Z
URL:https://business.bethany-fenwick.org/events/details/garden-yoga-05-21-2026-44081
END:VEVENT

END:VCALENDAR
