BEGIN:VCALENDAR
VERSION:2.0
PRODID:-//ChamberMaster//Event Calendar 2.0//EN
METHOD:PUBLISH
X-PUBLISHED-TTL:P3D
REFRESH-INTERVAL:P3D
CALSCALE:GREGORIAN
BEGIN:VEVENT
DTSTART;VALUE=DATE:20251202
DTEND;VALUE=DATE:20251203
TRANSP:TRANSPARENT
X-MICROSOFT-CDO-ALLDAYEVENT:TRUE
SUMMARY:Giving Tuesday- Art League of Ocean City
DESCRIPTION:This Giving Tuesday\, December 2nd\, as the holiday season begins\, the global movement of generosity reminds us to step back from consumerism and focus on paying it forward helping those in our community less fortunate.\n\nFor the Art League of Ocean City (ALOC)\, this day is a critical lifeline. While we are proud to open our doors year-round with free admission to the public\, the soaring operating costs of our $1.8 million budget\, combined with unexpected funding cuts\, threaten our ability to sustain the free programs that define us.\n\nYour donation today allows us to continue providing free after-school art enrichment for children in Title I schools\, offering healing art classes for those struggling with grief and stress\, and most critically\, securing the future of the arts in the Delmarva region.\n\nBy contributing to the ALOC now\, you are empowering us to deliver compassion\, creativity\, and crucial educational opportunities to everyone from the youngest student picking up a paintbrush to the aspiring college artist. Let your generosity be the gift that helps us help hundreds of others this season!\n\nDonate here: ocart.org/donate\nDonate on our Shore Gives 365 page: https://www.shoregives365.org/story/ocart-givingtuesday
X-ALT-DESC;FMTTYPE=text/html:<p><span style="background-color:transparent\; color:rgb(0\, 0\, 0)\; font-family:arial\,sans-serif\; font-size:11pt">This Giving Tuesday\, December 2nd\, as the holiday season begins\, the global movement of generosity reminds us to step back from consumerism and focus on paying it forward&mdash\;helping those in our community less fortunate.</span></p>\n\n<p><span style="background-color:transparent\; color:rgb(0\, 0\, 0)\; font-family:arial\,sans-serif\; font-size:11pt">For the Art League of Ocean City (ALOC)\, this day is a critical lifeline. While we are proud to open our doors year-round with free admission to the public\, the soaring operating costs of our $1.8 million budget\, combined with unexpected funding cuts\, threaten our ability to sustain the free programs that define us.</span></p>\n\n<p><span style="background-color:transparent\; color:rgb(0\, 0\, 0)\; font-family:arial\,sans-serif\; font-size:11pt">Your donation today allows us to continue providing free after-school art enrichment for children in Title I schools\, offering healing art classes for those struggling with grief and stress\, and most critically\, securing the future of the arts in the Delmarva region.</span></p>\n\n<p><span style="background-color:transparent\; color:rgb(0\, 0\, 0)\; font-family:arial\,sans-serif\; font-size:11pt">By contributing to the ALOC now\, you are empowering us to deliver compassion\, creativity\, and crucial educational opportunities to everyone&mdash\;from the youngest student picking up a paintbrush to the aspiring college artist. Let your generosity be the gift that helps us help hundreds of others this season!</span></p>\n\n<p><span style="background-color:transparent\; color:rgb(0\, 0\, 0)\; font-family:arial\,sans-serif\; font-size:11pt">Donate here:</span><strong> </strong><a href="http://ocart.org/donate?fbclid=IwZXh0bgNhZW0CMTAAYnJpZBExekhKem9hYUF0SGljZVlndwEezFjbGP6Nu-YY6rwczc31y2V8SmE3ywayGMaqVQBA7AJoaPBFC-GO-CCoCLE_aem_ZcmgfiBT3gabQISkrB85rA" style="text-decoration-line: none\;"><strong>ocart.org/donate</strong></a></p>\n<span style="background-color:transparent\; color:rgb(0\, 0\, 0)\; font-family:arial\,sans-serif\; font-size:11pt">Donate on our Shore Gives 365 page: </span><a href="https://www.shoregives365.org/story/ocart-givingtuesday?fbclid=IwZXh0bgNhZW0CMTAAYnJpZBExekhKem9hYUF0SGljZVlndwEeqgiw6t3o9EWO2hlV7uw2ls3lPy_pE6y1nNI6Aeye2SGGeLdF7IkMfvPEwOU_aem_ouvmvxe_5bD3T9GmBD8Cag" style="text-decoration-line: none\;"><strong>https://www.shoregives365.org/story/ocart-givingtuesday</strong></a>
LOCATION:
UID:e.2126.41012
SEQUENCE:3
DTSTAMP:20260422T014631Z
URL:https://business.bethany-fenwick.org/events/details/giving-tuesday-art-league-of-ocean-city-41012
END:VEVENT

END:VCALENDAR
