BEGIN:VCALENDAR
VERSION:2.0
PRODID:-//ChamberMaster//Event Calendar 2.0//EN
METHOD:PUBLISH
X-PUBLISHED-TTL:P3D
REFRESH-INTERVAL:P3D
CALSCALE:GREGORIAN
BEGIN:VEVENT
DTSTART:20260318T180000Z
DTEND:20260318T190000Z
X-MICROSOFT-CDO-ALLDAYEVENT:FALSE
SUMMARY:Happy Bookers Book Club at South Coastal Library
DESCRIPTION:Join Rachel for the next Happy Bookers meeting at the South Coastal Library in Bethany Beach! The group meets on select months to discuss a chosen book. Books selected are works of fiction from various genres and authors.\n\n\n\nThis book club is no longer offered virtually\, see you in-person! \n\n\n\nThis month we will be reading\, "Stay with Me" by Ayobami Adebayo.\n\n\n\nIf you plan on attending\, please register so we can notify you of any cancellations or changes.\n\n\n\nThis program is designed to promote literacy\, encourage critical thinking\, foster social interaction\, and promote diverse titles\, ideas\, and stories to the general public.
X-ALT-DESC;FMTTYPE=text/html:<span style="font-size:16px"><span style="font-family:arial">Join Rachel for the next Happy Bookers meeting at the South Coastal Library in Bethany Beach! The group meets on select months to discuss a chosen book. Books selected are works of fiction from various genres and authors.<br />\n<br />\nThis book club is no longer offered virtually\, see you in-person!&nbsp\;</span><br />\n<br />\nThis month we will be reading\, &quot\;Stay with Me&quot\; by Ayobami Adebayo.<br />\n<br />\nIf you plan on attending\, please register so we can notify you of any cancellations or changes.</span><br />\n<br />\n<span style="font-size:16px"><span style="font-family:arial">This program is designed to promote literacy\, encourage critical thinking\, foster social interaction\, and promote diverse titles\, ideas\, and stories to the general public.&nbsp\;</span></span>
LOCATION:
UID:e.2126.42325
SEQUENCE:3
DTSTAMP:20260421T083304Z
URL:https://business.bethany-fenwick.org/events/details/happy-bookers-book-club-at-south-coastal-library-42325
END:VEVENT

END:VCALENDAR
