BEGIN:VCALENDAR
VERSION:2.0
PRODID:-//ChamberMaster//Event Calendar 2.0//EN
METHOD:PUBLISH
X-PUBLISHED-TTL:P3D
REFRESH-INTERVAL:P3D
CALSCALE:GREGORIAN
BEGIN:VEVENT
DTSTART:20230908T203000Z
DTEND:20230908T210000Z
X-MICROSOFT-CDO-ALLDAYEVENT:FALSE
SUMMARY:Heroes Welcome Home Parade for Wounded Warriors
DESCRIPTION:Operation SEAs the Day invites everyone to line the streets on Friday\, September 8th\, to welcome buses carrying Wounded Warriors and their families.  Part of the 10th Anniversary of Warrior Beach Week by Operations SEAs the Day Bethany Beach\, this Heroes Welcome Home Parade is an amazing chance to show Warrior Families how much you appreciate the sacrifices they've made for our country.  Bring your friends\, family\, and neighbors to the parade route!  \n\n\n\nThe motorcade route will begin at Sea Colony Marketplace at 4:30pm then proceed south on Route 1 through South Bethany and Fenwick Island\, before turning on Lighthouse Road (Rt 54) to arrive at the final stop of Freeman Arts Pavilion around 5:00pm.\n\n\n\nWear red\, white\, and blue\, wave an American Flag or just be there to cheer and say 'thank you!'
X-ALT-DESC;FMTTYPE=text/html:Operation SEAs the Day invites everyone to line the streets on Friday\, September 8th\, to welcome buses carrying Wounded Warriors and their families.&nbsp\; Part of the 10th Anniversary of Warrior Beach Week by Operations SEAs the Day Bethany Beach\, this Heroes Welcome Home Parade is an amazing chance to show Warrior Families how much you appreciate the sacrifices they&#39\;ve made for our country.&nbsp\; Bring your friends\, family\, and neighbors to the parade route!&nbsp\;&nbsp\;<br />\n<br />\nThe motorcade route will begin at Sea Colony Marketplace at 4:30pm then proceed south on Route 1 through South Bethany and Fenwick Island\, before turning on Lighthouse Road (Rt 54) to arrive at the final stop of Freeman Arts Pavilion around 5:00pm.<br />\n<br />\nWear red\, white\, and blue\, wave an American Flag or just be there to cheer and say &#39\;thank you!&#39\;
LOCATION:Sea Colony Market place South on Rt 1 through South Bethany and Fenwick Island Lighthouse Rd to Freeman Arts Pavilion
UID:e.2126.26582
SEQUENCE:3
DTSTAMP:20260420T211725Z
URL:https://business.bethany-fenwick.org/events/details/heroes-welcome-home-parade-for-wounded-warriors-26582
END:VEVENT

END:VCALENDAR
