BEGIN:VCALENDAR
VERSION:2.0
PRODID:-//ChamberMaster//Event Calendar 2.0//EN
METHOD:PUBLISH
X-PUBLISHED-TTL:P3D
REFRESH-INTERVAL:P3D
CALSCALE:GREGORIAN
BEGIN:VEVENT
DTSTART:20240224T180000Z
DTEND:20240224T190000Z
X-MICROSOFT-CDO-ALLDAYEVENT:FALSE
SUMMARY:Hispanic Dance and Cultural Celebration at St. Martha's
DESCRIPTION:Join us for an unforgettable journey into the heart of Hispanic culture.  Get ready to be swept away by vibrant dances\, rich traditions and a joyous celebration of unity!
X-ALT-DESC;FMTTYPE=text/html:Join us for an unforgettable journey into the heart of Hispanic culture.&nbsp\; Get ready to be swept away by vibrant dances\, rich traditions and a joyous celebration of unity!&nbsp\;&nbsp\;
LOCATION:St. Martha's Episcopal Church 117 Maplewood Street Bethany Beach\, DE 19930
UID:e.2126.28382
SEQUENCE:3
DTSTAMP:20260420T112711Z
URL:https://business.bethany-fenwick.org/events/details/hispanic-dance-and-cultural-celebration-at-st-martha-s-28382
END:VEVENT

END:VCALENDAR
