BEGIN:VCALENDAR
VERSION:2.0
PRODID:-//ChamberMaster//Event Calendar 2.0//EN
METHOD:PUBLISH
X-PUBLISHED-TTL:P3D
REFRESH-INTERVAL:P3D
CALSCALE:GREGORIAN
BEGIN:VEVENT
DTSTART:20230930T210000Z
DTEND:20231001T010000Z
X-MICROSOFT-CDO-ALLDAYEVENT:FALSE
SUMMARY:Historic Village in Ocean View Dine and Donate at the Cafe on 26
DESCRIPTION:Join the Historic Village in Ocean View\, Delaware on Saturday\, September 30th\, at the lovely Caf  on 26 restaurant in Ocean View to celebrate Cecile Steele and the 100-year anniversary of her pioneering work in the broiler chicken industry. The restaurant\, which was the former residence of Mrs. Steele and her husband Wilmer\, will generously donate a portion of all proceeds to the Historic Village. Please make reservations directly with the Caf : 302-539-2233.\n\n\n\n50/50 Raffles available $5 for 3 or $10 for 7.
X-ALT-DESC;FMTTYPE=text/html:<p class="xmsonormal"><span style="font-size:11.5pt\;font-family:inherit\;\ncolor:black">Join the Historic Village in Ocean View\, Delaware on Saturday\, September 30th\, at the lovely Caf&eacute\; on 26 restaurant in Ocean View to celebrate Cecile Steele and the 100-year anniversary of her pioneering work in the broiler chicken industry. The restaurant\, which was the former residence of Mrs. Steele and her husband Wilmer\, will generously donate a portion of all proceeds to the Historic Village. Please make reservations directly with the Caf&eacute\;:&nbsp\;302-539-2233.<br />\n<br />\n50/50 Raffles available $5 for 3 or $10 for 7.</span><o:p></o:p></p>\n
LOCATION:84 Atlantic Ave. Ocean View\, DE 19970
UID:e.2126.26948
SEQUENCE:3
DTSTAMP:20260420T212140Z
URL:https://business.bethany-fenwick.org/events/details/historic-village-in-ocean-view-dine-and-donate-at-the-cafe-on-26-26948
END:VEVENT

END:VCALENDAR
