BEGIN:VCALENDAR
VERSION:2.0
PRODID:-//ChamberMaster//Event Calendar 2.0//EN
METHOD:PUBLISH
X-PUBLISHED-TTL:P3D
REFRESH-INTERVAL:P3D
CALSCALE:GREGORIAN
BEGIN:VEVENT
DTSTART:20230922T160000Z
DTEND:20230922T220000Z
X-MICROSOFT-CDO-ALLDAYEVENT:FALSE
SUMMARY:Historic Village in Ocean View Gallery One Art Event
DESCRIPTION:Artist6s from Gallery One are planning to create painting of historic homes\, structures\, and artifacts in and around Ocean View. Artists may be "plein air" around the Historic Village\, John West Park\, and other places in town on Thursday\, September 21st & Friday\, September 22nd.\n\n\n\nView completed paintings in Hall's Store\, 32 West Ave.\, Ocean View. Viewings and sale start start at noon. Join us for a reception and visit with artists from 5-6pm.
X-ALT-DESC;FMTTYPE=text/html:Artist6s from Gallery One are planning to create painting of historic homes\, structures\, and artifacts in and around Ocean View. Artists may be &quot\;plein air&quot\; around the Historic Village\, John West Park\, and other places in town on Thursday\, September 21st &amp\; Friday\, September 22nd.<br />\n<br />\nView completed paintings in Hall&#39\;s Store\, 32 West Ave.\, Ocean View. Viewings and sale start start at noon. Join us for a reception and visit with artists from 5-6pm.
LOCATION:Hall's Store 32 West Ave. Ocean View\, DE 19970
UID:e.2126.26931
SEQUENCE:3
DTSTAMP:20260420T225415Z
URL:https://business.bethany-fenwick.org/events/details/historic-village-in-ocean-view-gallery-one-art-event-26931
END:VEVENT

END:VCALENDAR
