BEGIN:VCALENDAR
VERSION:2.0
PRODID:-//ChamberMaster//Event Calendar 2.0//EN
METHOD:PUBLISH
X-PUBLISHED-TTL:P3D
REFRESH-INTERVAL:P3D
CALSCALE:GREGORIAN
BEGIN:VEVENT
DTSTART:20220811T233000Z
DTEND:20220811T233000Z
X-MICROSOFT-CDO-ALLDAYEVENT:FALSE
SUMMARY:Honky Tonk Casanovas
DESCRIPTION:Based out of the MD/VA/Washington DC area\, the Honky Tonk Casanovas play an entertaining mix of country\, western swing\, California surf\, and southern soul music!
X-ALT-DESC;FMTTYPE=text/html:Based out of the MD/VA/Washington DC area\, the Honky Tonk Casanovas play an entertaining mix of country\, western swing\, California surf\, and southern soul music!
LOCATION:Bethany Beach Bandstand
UID:e.2126.23840
SEQUENCE:3
DTSTAMP:20260421T204807Z
URL:https://business.bethany-fenwick.org/events/details/honky-tonk-casanovas-23840
END:VEVENT

END:VCALENDAR
