BEGIN:VCALENDAR
VERSION:2.0
PRODID:-//ChamberMaster//Event Calendar 2.0//EN
METHOD:PUBLISH
X-PUBLISHED-TTL:P3D
REFRESH-INTERVAL:P3D
CALSCALE:GREGORIAN
BEGIN:VEVENT
DTSTART:20240813T150000Z
DTEND:20240813T170000Z
X-MICROSOFT-CDO-ALLDAYEVENT:FALSE
SUMMARY:Jewelry Making at the Georgetown Public Library
DESCRIPTION:Join us and Ria Carraro for a jewelry making class!\n\nAll supplies will be provided. Registration is required. Registration will open on July 30th.\n\nThis event is for teens and adults.
X-ALT-DESC;FMTTYPE=text/html:<p>Join us and Ria Carraro for a jewelry making class!</p>\n\n<p>All supplies will be provided. <strong>Registration is required. Registration will open on July 30th.</strong></p>\n\n<p>This event is for teens and adults.&nbsp\;</p>\n
LOCATION:Georgetown Public Library 123 West Pine St. Georgetown\, DE 19947
UID:e.2126.30417
SEQUENCE:3
DTSTAMP:20260420T163512Z
URL:https://business.bethany-fenwick.org/events/details/jewelry-making-at-the-georgetown-public-library-30417
END:VEVENT

END:VCALENDAR
