BEGIN:VCALENDAR
VERSION:2.0
PRODID:-//ChamberMaster//Event Calendar 2.0//EN
METHOD:PUBLISH
X-PUBLISHED-TTL:P3D
REFRESH-INTERVAL:P3D
CALSCALE:GREGORIAN
BEGIN:VEVENT
DTSTART:20260319T180000Z
DTEND:20260319T183000Z
X-MICROSOFT-CDO-ALLDAYEVENT:FALSE
SUMMARY:Jigsaw Puzzle Swap at South Coastal Library
DESCRIPTION:Join South Coastal Library in Bethany Beach for a fun puzzle swap!\n\n\n\nSwap out your old puzzles for ones that others have left. Puzzles should to the best of your knowledge have all their pieces\, be in their original\, un-taped box\, and be in good condition. There will also be two community jigsaw puzzles set up in the library for you to help complete. Have fun!\n\nPuzzle Swap:\n\n\n	Participants may bring up to 3 puzzles to swap.\n	Puzzles should to the best of their knowledge have all their pieces\, and be in good condition.\n	Puzzle boxes should not be taped.
X-ALT-DESC;FMTTYPE=text/html:<p><span style="font-size:16px">Join South Coastal Library in Bethany Beach&nbsp\;for a fun puzzle swap!<br />\n<br />\nSwap out your old puzzles for ones that others have left. Puzzles should to the best of your knowledge have all their pieces\,&nbsp\;be in their original\, un-taped box\, and be in good condition. There will&nbsp\;also be&nbsp\;two community jigsaw puzzles set up in the library for you to help complete. Have fun!</span></p>\n\n<p><span style="font-size:16px"><u><strong>Puzzle Swap:</strong></u></span></p>\n\n<ul>\n	<li><span style="font-size:16px"><strong>Participants may bring up to 3 puzzles to swap.</strong></span></li>\n	<li><span style="font-size:16px"><strong>Puzzles should to the best of their&nbsp\;knowledge have all their pieces\, and be in good condition.</strong></span></li>\n	<li><span style="font-size:16px"><strong>Puzzle boxes should not be taped.</strong></span></li>\n</ul>\n
LOCATION:
UID:e.2126.42326
SEQUENCE:3
DTSTAMP:20260421T083220Z
URL:https://business.bethany-fenwick.org/events/details/jigsaw-puzzle-swap-at-south-coastal-library-03-19-2026-42326
END:VEVENT

END:VCALENDAR
