BEGIN:VCALENDAR
VERSION:2.0
PRODID:-//ChamberMaster//Event Calendar 2.0//EN
METHOD:PUBLISH
X-PUBLISHED-TTL:P3D
REFRESH-INTERVAL:P3D
CALSCALE:GREGORIAN
BEGIN:VEVENT
DTSTART:20240712T223000Z
DTEND:20240713T020000Z
X-MICROSOFT-CDO-ALLDAYEVENT:FALSE
SUMMARY:John Zircket Junior Lifeguard Challenge at Sea Colony
DESCRIPTION:Come out to Sea Colony for the Junior Lifeguard Challenge this Friday\, July 12th. \n\n\n\nRegistration starts at 5:45pm and the first event starts at 6:30pm.\n\n\n\nAll events will have male and female divisions and the heats are:\n\n    A: 12-16 year old\n\n    B 7-11 year old\n\n\n\nEvents include:\n\n	Run-Swim-Run Relay- 3 person team.\n	Paddle Relay- 4 person team (bring your own boards).\n	200-300 yd Beach Run.\n	Iron Guard - Run\, swim\, paddle. Limit 3 juniors per division per patrol.\n	Surf Dash -  4 person relay team (bring your own junior cans).  \n	Special Event- Water Polo at Edgewater Pool- 6 person co-ed or any combination teams. Start time after 8:00pm. Rules to be announced.\n\nParking will be at the lot beside Dunkin Donuts with overflow across Rt. 1. You can also ask security at the front gate.
X-ALT-DESC;FMTTYPE=text/html:Come out to Sea Colony for the Junior Lifeguard Challenge this Friday\, July 12th.&nbsp\;<br />\n<br />\nRegistration starts at 5:45pm and the first event starts at 6:30pm.<br />\n<br />\nAll events will have male and female divisions and the heats are:<br />\n&nbsp\; &nbsp\; A: 12-16 year old<br />\n&nbsp\; &nbsp\; B 7-11<span style="font-family:arial\;"> year old</span><br />\n<br />\nEvents include:\n<ul>\n	<li><span style="font-size:14px\;"><span style="font-family:arial\;">Run-Swim-Run Relay- 3 person team.</span></span></li>\n	<li><span style="font-size:14px\;"><span style="font-family:arial\;">Paddle Relay- 4 person team (bring your own boards).</span></span></li>\n	<li><span style="font-size:14px\;"><span style="font-family:arial\;">200-300 yd Beach Run.</span></span></li>\n	<li><span style="font-size:14px\;"><span style="font-family:arial\;">Iron Guard - Run\, swim\, paddle. Limit 3 juniors per division per patrol.</span></span></li>\n	<li><span style="font-size:14px\;"><span style="font-family:arial\;">Surf Dash -&nbsp\; 4 person relay team (bring your own junior cans).&nbsp\; </span></span></li>\n	<li><span style="font-size:14px\;"><span style="font-family:arial\;">Special Event- Water Polo at Edgewater Pool- 6 person co-ed or any combination teams. Start time after 8:00pm. Rules to be announced.</span></span></li>\n</ul>\n<span style="font-size:14px\;"><span style="font-family:arial\;">Parking will be at the lot beside Dunkin Donuts with overflow across Rt. 1. You can also ask security at the front gate.</span></span>
LOCATION:Sea Colony Beach
UID:e.2126.30418
SEQUENCE:3
DTSTAMP:20260420T133221Z
URL:https://business.bethany-fenwick.org/events/details/john-zircket-junior-lifeguard-challenge-at-sea-colony-30418
END:VEVENT

END:VCALENDAR
