BEGIN:VCALENDAR
VERSION:2.0
PRODID:-//ChamberMaster//Event Calendar 2.0//EN
METHOD:PUBLISH
X-PUBLISHED-TTL:P3D
REFRESH-INTERVAL:P3D
CALSCALE:GREGORIAN
BEGIN:VEVENT
DTSTART:20240818T160000Z
DTEND:20240818T190000Z
X-MICROSOFT-CDO-ALLDAYEVENT:FALSE
SUMMARY:Kids Paint OC: A Plein Air Event at Art League of OC
DESCRIPTION:Join the Art League of OC for the 2nd annual Kids Paint OC event in conjunction with the annual Artists Paint OC Plein Air competition this August!\n\nWhat is "Plein Air"? En plein air is French for "in open air". Plein air artists paint outdoors\, capturing the beautiful scenery around them.\n\nKids Paint OC is open to ages 6 -17. All levels and abilities are welcome! There is no fee to participate.\n\nAll artwork will be displayed during the art show on Sunday\, August 18th from 12-3pm.
X-ALT-DESC;FMTTYPE=text/html:<p>Join the Art League of OC&nbsp\;for the 2nd annual Kids Paint OC event in conjunction with the annual Artists Paint OC Plein Air competition&nbsp\;this August!</p>\n\n<p>What is &ldquo\;Plein Air&rdquo\;? En plein air is French for &ldquo\;in open air&rdquo\;. Plein air artists paint outdoors\, capturing the beautiful scenery around them.</p>\n\n<p>Kids Paint OC is open to ages 6 -17. All levels and abilities are welcome! There is no fee to participate.</p>\n\n<p>All artwork will be displayed during the art show on Sunday\,&nbsp\;August&nbsp\;18th from 12-3pm.</p>\n
LOCATION:The Art league of Ocean City 502 94th St. Ocean City\, MD\, 21842
UID:e.2126.30572
SEQUENCE:3
DTSTAMP:20260420T164129Z
URL:https://business.bethany-fenwick.org/events/details/kids-paint-oc-a-plein-air-event-at-art-league-of-oc-30572
END:VEVENT

END:VCALENDAR
