BEGIN:VCALENDAR
VERSION:2.0
PRODID:-//ChamberMaster//Event Calendar 2.0//EN
METHOD:PUBLISH
X-PUBLISHED-TTL:P3D
REFRESH-INTERVAL:P3D
CALSCALE:GREGORIAN
BEGIN:VEVENT
DTSTART:20240206T220000Z
DTEND:20240207T010000Z
X-MICROSOFT-CDO-ALLDAYEVENT:FALSE
SUMMARY:Knights of Columbus Dine to Donate at Perucci's
DESCRIPTION:Come join us for a great dining experience at Perucci's Classic Italian Restaurant in Millville on February 6th & 7th!  A portion of all eat-in purchases on those days will be donated to the St. Ann Council Knights of Columbus.\n\n\n\nRemember this is a two-night event - both Tuesday\, Feb 6 and Wednesday Feb 7!  See you there!!\n\n\n\nReservations are required so please call Perucci's @ 302-829-8727.
X-ALT-DESC;FMTTYPE=text/html:Come join us for a great dining experience at Perucci&#39\;s Classic Italian Restaurant in Millville on February 6th &amp\; 7th!&nbsp\; A portion of all eat-in purchases on those days will be donated to the St. Ann Council Knights of Columbus.<br />\n<br />\nRemember this is a two-night event - both Tuesday\, Feb 6 and Wednesday Feb 7!&nbsp\; See you there!!<br />\n<br />\nReservations are required so please call Perucci&#39\;s @ 302-829-8727.
LOCATION:Perucci's Classic Italian Restaurant 35715 Atlantic Avenue Millville\, DE 19966
UID:e.2126.27777
SEQUENCE:3
DTSTAMP:20260420T113004Z
URL:https://business.bethany-fenwick.org/events/details/knights-of-columbus-dine-to-donate-at-perucci-s-27777
END:VEVENT

END:VCALENDAR
