BEGIN:VCALENDAR
VERSION:2.0
PRODID:-//ChamberMaster//Event Calendar 2.0//EN
METHOD:PUBLISH
X-PUBLISHED-TTL:P3D
REFRESH-INTERVAL:P3D
CALSCALE:GREGORIAN
BEGIN:VEVENT
DTSTART:20260321T140000Z
DTEND:20260322T030000Z
X-MICROSOFT-CDO-ALLDAYEVENT:FALSE
SUMMARY:LEGO Club at South Coastal Library
DESCRIPTION:Let your child's imagination run wild at LEGO Club at the South Coastal Library in Bethany Beach!  Each program\, will focus on a new theme.  LEGOs will be provided. \n\n\n\nFor ages 6-11 years.
X-ALT-DESC;FMTTYPE=text/html:<span style="font-size:16px"><span style="font-family:arial">Let your child&#39\;s imagination run wild at LEGO Club at the South Coastal Library in Bethany Beach!&nbsp\; Each program\, will focus on a new theme.&nbsp\; LEGOs will be provided.&nbsp\;<br />\n<br />\nFor ages 6-11 years.&nbsp\;</span></span>
LOCATION:
UID:e.2126.42623
SEQUENCE:3
DTSTAMP:20260421T082918Z
URL:https://business.bethany-fenwick.org/events/details/lego-club-at-south-coastal-library-42623
END:VEVENT

END:VCALENDAR
