BEGIN:VCALENDAR
VERSION:2.0
PRODID:-//ChamberMaster//Event Calendar 2.0//EN
METHOD:PUBLISH
X-PUBLISHED-TTL:P3D
REFRESH-INTERVAL:P3D
CALSCALE:GREGORIAN
BEGIN:VEVENT
DTSTART:20260523T110000Z
DTEND:20260523T150000Z
X-MICROSOFT-CDO-ALLDAYEVENT:FALSE
SUMMARY:Lord Baltimore Lions Club Pancake Breakfast
DESCRIPTION:The Lord Baltimore Lions Club will be hosting a Pancake Breakfast on May 23rd\, 2026\, from 7 am to 11am at the Mariner Bethel Church-Hope Center in Ocean View. They will be serving pancakes\, sausage\, coffee and tea. 100% of funds raised will go to support their community programs.
X-ALT-DESC;FMTTYPE=text/html:<span style="font-size:16px\;"><span style="font-family:arial\;">The Lord Baltimore Lions Club will be hosting a Pancake Breakfast on May 23rd\, 2026\, from 7 am to 11am at the Mariner Bethel Church-Hope Center in Ocean View. They will be serving pancakes\, sausage\, coffee and tea. 100% of funds raised will go to support their community programs.&nbsp\;</span></span><br />\n&nbsp\;
LOCATION:
UID:e.2126.44040
SEQUENCE:3
DTSTAMP:20260420T132910Z
URL:https://business.bethany-fenwick.org/events/details/lord-baltimore-lions-club-pancake-breakfast-44040
END:VEVENT

END:VCALENDAR
