BEGIN:VCALENDAR
VERSION:2.0
PRODID:-//ChamberMaster//Event Calendar 2.0//EN
METHOD:PUBLISH
X-PUBLISHED-TTL:P3D
REFRESH-INTERVAL:P3D
CALSCALE:GREGORIAN
BEGIN:VEVENT
DTSTART:20250508T123000Z
DTEND:20250508T140000Z
X-MICROSOFT-CDO-ALLDAYEVENT:FALSE
SUMMARY:May 2025 Membership Meeting: Shoplifting Prevention\, Prosecution\, and Business Best Practices
DESCRIPTION:Join the Bethany-Fenwick Area Chamber of Commerce\, Kathleen Dickerson\, the Chief Prosecutor for Sussex County\, Lieutenant Bill Harris with Delaware State Police\, and local police departments for an information session to understand Delaware law on shoplifting\, best practices for prevention and reporting\, and the prosecution process.\n\n\n\nThis Membership Meeting is free for member businesses to attend as a business resource organized by the Chamber\, and $10 for non-member attendees.  The meeting will be held at the Millville Community Center at Evans Park from 8:30 - 10:00AM on May 8\, 2025.  Breakfast will be provided!  \n\n\n\nAny staff member from your business is welcome to attend and learn more about best practices for: \n\n	store set up\n	employee training\n	video recordings\n	reporting shoplifting\n	the process to prosecute\n\nKey takeaways will be provided for attendees to bring back to their business after the meeting.  The meeting will also feature a roundtable open discussion between law enforcement agencies and local businesses\, to discuss the issues business have been facing with shoplifting\, to share employee training resources and recommendations from business to business\, and to brainstorm effective communication channels between businesses when shoplifting occurs.\n\n\n\nMeeting Agenda:\n\n8:30 - 9:00 AM: Breakfast\, & Open Networking\n\n9:00 - 10:00 AM: Presentation\, Q&A\, & Open Discussion
X-ALT-DESC;FMTTYPE=text/html:<span style="font-size:16px\;">Join the Bethany-Fenwick Area Chamber of Commerce\, Kathleen Dickerson\, the Chief Prosecutor for Sussex County\, Lieutenant Bill Harris with Delaware State Police\, and local police departments for an information session to understand Delaware law on shoplifting\, best practices for prevention and reporting\, and the prosecution process.<br />\n<br />\nThis Membership Meeting is free for member businesses to attend as a business resource organized by the Chamber\, and $10 for non-member attendees.&nbsp\; The meeting will be held at the Millville Community Center at Evans Park from 8:30 - 10:00AM on May 8\, 2025.&nbsp\; Breakfast will be provided!&nbsp\;&nbsp\;<br />\n<br />\n<strong>Any staff member from your business is welcome to attend and learn more about best practices for: </strong></span>\n<ul>\n	<li><span style="font-size:16px\;"><strong>store set up</strong></span></li>\n	<li><span style="font-size:16px\;"><strong>employee training</strong></span></li>\n	<li><span style="font-size:16px\;"><strong>video recordings</strong></span></li>\n	<li><span style="font-size:16px\;"><strong>reporting shoplifting</strong></span></li>\n	<li><span style="font-size:16px\;"><strong>the process to prosecute</strong></span></li>\n</ul>\n<span style="font-size:16px\;"><strong>Key takeaways will be provided for attendees to bring back to their business after the meeting.&nbsp\; The meeting will also feature a roundtable open discussion between law enforcement agencies and local businesses\, to discuss the issues business have been facing with shoplifting\, to share employee training resources and recommendations from business to business\, and to brainstorm effective communication channels between businesses when shoplifting occurs.</strong><br />\n<br />\nMeeting Agenda:<br />\n8:30 - 9:00 AM: Breakfast\, &amp\; Open Networking<br />\n9:00 - 10:00 AM: Presentation\, Q&amp\;A\, &amp\; Open Discussion&nbsp\;</span>
LOCATION:Millville Community Center - Evans Park 32517 Dukes Dr. Millville\, DE 19967
UID:e.2126.38490
SEQUENCE:3
DTSTAMP:20260422T132010Z
URL:https://business.bethany-fenwick.org/events/details/may-2025-membership-meeting-shoplifting-prevention-prosecution-and-business-best-practices-38490
END:VEVENT

END:VCALENDAR
