BEGIN:VCALENDAR
VERSION:2.0
PRODID:-//ChamberMaster//Event Calendar 2.0//EN
METHOD:PUBLISH
X-PUBLISHED-TTL:P3D
REFRESH-INTERVAL:P3D
CALSCALE:GREGORIAN
BEGIN:VEVENT
DTSTART:20230202T130000Z
DTEND:20230202T143000Z
X-MICROSOFT-CDO-ALLDAYEVENT:FALSE
SUMMARY:Membership Meeting - February 2\, 2023 "J1 Community Support
DESCRIPTION:Join us on February 2nd for Information on the J1 Program at the South Coastal Library in Bethany.\n\n\n\nCheck-in begins at 8:00am\n\nProgramming runs from 8:30am - 9:30am\n\n\n\nThe summer season is right around the corner and it is very important to know the do's and don'ts of the J1 Program.  Spend your morning with Carrie Linch\, SWT Program Director Placement and Compliance ASSE International Aspire Worldwide as she talks about business owners responsibility in the hiring and paying of their J1 employees.\n\n\n\n1 Summer Work Travel Program  \n\n	Information about the BridgeUSA Program\n	U.S. Dept. of State   regulations   visa process\n	Sponsor's role\n	Employer's responsibilities\n	Participant's responsibilities\n	Payroll/taxes   W4 Form   Second Jobs\n	SSN application process\n	Housing\n	Bike Safety\n	Community Support\n	Outlook for 2023\n\nRegistration is required to accommodate our host. The cost is $10 and includes breakfast. \n\n \n\nMembership Meetings are intended to increase awareness of what is happening in the business community. Whether a dynamic speaker\, an educational workshop or a true networking event\, Membership Meetings are long-standing traditions in serving as an informational platform for the business community. And\, to add to the excitement   breakfast will be served to get the morning started off right.
X-ALT-DESC;FMTTYPE=text/html:<span style="font-family:arial\,sans-serif\;"><span style="font-size:10.5pt\;">Join us on February 2nd for Information on the J1 Program at the South Coastal Library in Bethany.</span></span><br />\n<br />\nCheck-in begins at 8:00am<br />\nProgramming runs from 8:30am - 9:30am<br />\n<br />\n<span style="font-family:arial\,sans-serif\;"><span style="font-size:10.5pt\;">The summer season is right around the corner and it is very important to know the do&rsquo\;s and don&rsquo\;ts of the J1 Program.&nbsp\; Spend your morning with Carrie Linch\, SWT Program Director Placement and Compliance <strong>ASSE International Aspire Worldwide</strong> as she talks about business owners responsibility in the hiring and paying of their J1 employees.</span></span><br />\n<br />\n<span style="font-size:12px\;"><strong><span style="font-family:arial\,sans-serif\;">1 Summer Work Travel Program &ndash\;</span></strong></span>\n<ul>\n	<li style="margin-left:0in\;"><span style="font-size:12px\;"><span style="font-family:arial\,sans-serif\;">Information about the BridgeUSA Program</span></span></li>\n	<li style="margin-left:0in\;"><span style="font-size:12px\;"><span style="font-family:arial\,sans-serif\;"><span style="font-family:arial\,sans-serif\;">U.S. Dept. of State &ndash\; regulations &ndash\; visa process</span></span></span></li>\n	<li style="margin-left:0in\;"><span style="font-size:12px\;"><span style="font-family:arial\,sans-serif\;"><span style="font-family:arial\,sans-serif\;"><span style="font-family:arial\,sans-serif\;">Sponsor&#39\;s role</span></span></span></span></li>\n	<li style="margin-left:0in\;"><span style="font-size:12px\;"><span style="font-family:arial\,sans-serif\;"><span style="font-family:arial\,sans-serif\;"><span style="font-family:arial\,sans-serif\;"><span style="font-family:arial\,sans-serif\;">Employer&rsquo\;s responsibilities</span></span></span></span></span></li>\n	<li style="margin-left:0in\;"><span style="font-size:12px\;"><span style="font-family:arial\,sans-serif\;"><span style="font-family:arial\,sans-serif\;"><span style="font-family:arial\,sans-serif\;"><span style="font-family:arial\,sans-serif\;"><span style="font-family:arial\,sans-serif\;">Participant&rsquo\;s responsibilities</span></span></span></span></span></span></li>\n	<li style="margin-left:0in\;"><span style="font-size:12px\;"><span style="font-family:arial\,sans-serif\;"><span style="font-family:arial\,sans-serif\;"><span style="font-family:arial\,sans-serif\;"><span style="font-family:arial\,sans-serif\;"><span style="font-family:arial\,sans-serif\;"><span style="font-family:arial\,sans-serif\;">Payroll/taxes &ndash\; W4 Form &ndash\; Second Jobs</span></span></span></span></span></span></span></li>\n	<li style="margin-left:0in\;"><span style="font-size:12px\;"><span style="font-family:arial\,sans-serif\;"><span style="font-family:arial\,sans-serif\;"><span style="font-family:arial\,sans-serif\;"><span style="font-family:arial\,sans-serif\;"><span style="font-family:arial\,sans-serif\;"><span style="font-family:arial\,sans-serif\;"><span style="font-family:arial\,sans-serif\;">SSN application process</span></span></span></span></span></span></span></span></li>\n	<li style="margin-left:0in\;"><span style="font-size:12px\;"><span style="font-family:arial\,sans-serif\;">Housing</span></span></li>\n	<li style="margin-left:0in\;"><span style="font-size:12px\;"><span style="font-family:arial\,sans-serif\;">Bike Safety</span></span></li>\n	<li style="margin-left:0in\;"><span style="font-size:12px\;"><span style="font-family:arial\,sans-serif\;">Community Support</span></span></li>\n	<li style="margin-left:0in\;"><span style="font-size:12px\;"><span style="font-family:arial\,sans-serif\;">Outlook for 2023</span></span></li>\n</ul>\n<strong><span style="background-image:initial\;background-position:initial\;background-size:initial\;background-repeat:initial\;background-attachment:initial\;background-origin:initial\;background-clip:initial\;"><span style="font-family:arial\,sans-serif\;"><span style="font-size:10.5pt\;">Registration is required to accommodate our host. The cost is $10 and includes breakfast.&nbsp\;</span></span></span></strong><br />\n<span style="font-family:arial\,sans-serif\;"><span style="font-size:10.5pt\;">&nbsp\;<br />\nMembership Meetings are intended to increase awareness of what is happening in the business community. Whether a dynamic speaker\, an educational workshop or a true networking event\, Membership Meetings are long-standing traditions in serving as an informational platform for the business community. And\, to add to the excitement &hellip\; breakfast will be served to get the morning started off right.</span></span><br />\n<br />\n&nbsp\;
LOCATION:South Coastal Library 43 Kent Ave. Bethany Beach\, DE 19930
UID:e.2126.24923
SEQUENCE:3
DTSTAMP:20260421T085750Z
URL:https://business.bethany-fenwick.org/events/details/membership-meeting-february-2-2023-j1-community-support-24923
END:VEVENT

END:VCALENDAR
