BEGIN:VCALENDAR
VERSION:2.0
PRODID:-//ChamberMaster//Event Calendar 2.0//EN
METHOD:PUBLISH
X-PUBLISHED-TTL:P3D
REFRESH-INTERVAL:P3D
CALSCALE:GREGORIAN
BEGIN:VEVENT
DTSTART;VALUE=DATE:20250526
DTEND;VALUE=DATE:20250527
TRANSP:TRANSPARENT
X-MICROSOFT-CDO-ALLDAYEVENT:TRUE
SUMMARY:Memorial Day Scramble at Bear Trap
DESCRIPTION:Memorial Day Scramble at Bear Trap on Monday\, May 26th!\n\n\n\n$55 Member / $85 Guest\, plus applicable cart fee\n\n\n\n  Event Includes: 18 holes\, on course contests\, Raffle prizes\, and Lunch Following Play.\n\n  Format: 9 am Shotgun\, 18-Holes\, 4-Person Scramble\, USGA Handicapping 25%/20%/15%/10% lowest to highest handicap\, Flighted\n\n  Payout: Determined by participating teams in each flight
X-ALT-DESC;FMTTYPE=text/html:Memorial Day Scramble at Bear Trap on Monday\, May 26th!<br />\n<br />\n$55 Member / $85 Guest\, plus applicable cart fee<br />\n<br />\n&bull\; Event Includes: 18 holes\, on course contests\, Raffle prizes\, and Lunch Following Play.<br />\n&bull\; Format: 9 am Shotgun\, 18-Holes\, 4-Person Scramble\, USGA Handicapping 25%/20%/15%/10% lowest to highest handicap\, Flighted<br />\n&bull\; Payout: Determined by participating teams in each flight&nbsp\;
LOCATION:
UID:e.2126.38212
SEQUENCE:3
DTSTAMP:20260422T131000Z
URL:https://business.bethany-fenwick.org/events/details/memorial-day-scramble-at-bear-trap-38212
END:VEVENT

END:VCALENDAR
