BEGIN:VCALENDAR
VERSION:2.0
PRODID:-//ChamberMaster//Event Calendar 2.0//EN
METHOD:PUBLISH
X-PUBLISHED-TTL:P3D
REFRESH-INTERVAL:P3D
CALSCALE:GREGORIAN
BEGIN:VEVENT
DTSTART:20200816T000000Z
DTEND:20200816T020000Z
X-MICROSOFT-CDO-ALLDAYEVENT:FALSE
SUMMARY:Mid-Atlantic Symphony featuring Starry Night Opera
DESCRIPTION:The powerful voices of the New York City Opera Company join the formidable Mid-Atlantic Symphony\, under the fiery direction of Maestro Julien Benichou\, for an evening of great opera! New York City Opera General Director Michael Capasso will introduce the program.
X-ALT-DESC;FMTTYPE=text/html:<span style="font-size: 14px\;"><span style="font-family: arial\;">The powerful voices of the New York City Opera Company join the formidable Mid-Atlantic Symphony\, under the fiery direction of Maestro Julien Benichou\, for an evening of great opera! New York City Opera General Director Michael Capasso will introduce the program.</span></span>
LOCATION:The Freeman Stage 31750 Lake View Drive Selbyville\, DE 19975
UID:e.2126.21717
SEQUENCE:3
DTSTAMP:20260425T161909Z
URL:https://business.bethany-fenwick.org/events/details/mid-atlantic-symphony-featuring-starry-night-opera-21717
END:VEVENT

END:VCALENDAR
