BEGIN:VCALENDAR
VERSION:2.0
PRODID:-//ChamberMaster//Event Calendar 2.0//EN
METHOD:PUBLISH
X-PUBLISHED-TTL:P3D
REFRESH-INTERVAL:P3D
CALSCALE:GREGORIAN
BEGIN:VEVENT
DTSTART:20240819T220000Z
DTEND:20240820T000000Z
X-MICROSOFT-CDO-ALLDAYEVENT:FALSE
SUMMARY:Music BINGO at Evans Park
DESCRIPTION:Join the Town of Millville for FREE Music BINGO! You heard right\, FREE BINGO! \n\n\n\nCome to the Millville Community Center at Evans Park from 6pm-8pm on Monday\, August 19th.\n\n\n\nDJ Davis Diamond State Entertainment will provide the music.\n\n\n\nNo reservations needed and open to the public.
X-ALT-DESC;FMTTYPE=text/html:Join the Town of Millville for FREE Music BINGO! You heard right\, FREE BINGO!&nbsp\;<br />\n<br />\nCome to the Millville Community Center at Evans Park from 6pm-8pm on Monday\, August 19th.<br />\n<br />\nDJ Davis Diamond State Entertainment will provide the music.<br />\n<br />\nNo reservations needed and open to the public.
LOCATION:Millville Community Center Evans Park 32517 Dukes Rd. Millville\, DE 19967
UID:e.2126.30124
SEQUENCE:3
DTSTAMP:20260420T162947Z
URL:https://business.bethany-fenwick.org/events/details/music-bingo-at-evans-park-30124
END:VEVENT

END:VCALENDAR
