BEGIN:VCALENDAR
VERSION:2.0
PRODID:-//ChamberMaster//Event Calendar 2.0//EN
METHOD:PUBLISH
X-PUBLISHED-TTL:P3D
REFRESH-INTERVAL:P3D
CALSCALE:GREGORIAN
BEGIN:VEVENT
DTSTART:20240227T230000Z
DTEND:20240228T003000Z
X-MICROSOFT-CDO-ALLDAYEVENT:FALSE
SUMMARY:Music Mingo at Bethany Brewing
DESCRIPTION:Come join us for Music Mingo with Jersey John's Tunes & Trivia
X-ALT-DESC;FMTTYPE=text/html:Come join us for Music Mingo with Jersey John&#39\;s Tunes &amp\; Trivia
LOCATION:Bethany Brewing 38450 Hickman Rd. Ocean View\, DE 19970
UID:e.2126.27651
SEQUENCE:3
DTSTAMP:20260420T112905Z
URL:https://business.bethany-fenwick.org/events/details/music-mingo-at-bethany-brewing-02-27-2024-27651
END:VEVENT

END:VCALENDAR
