BEGIN:VCALENDAR
VERSION:2.0
PRODID:-//ChamberMaster//Event Calendar 2.0//EN
METHOD:PUBLISH
X-PUBLISHED-TTL:P3D
REFRESH-INTERVAL:P3D
CALSCALE:GREGORIAN
BEGIN:VEVENT
DTSTART:20251203T000000Z
DTEND:20251203T030000Z
X-MICROSOFT-CDO-ALLDAYEVENT:FALSE
SUMMARY:MUSIC T-R-I-V-I-A at The Salted Rim Margarita Bar & Grille
DESCRIPTION:MUSIC T-R-I-V-I-A\n\n7 pm\n\nThe Salted Rim Margarita Bar & Grille\n\nMillville\, DE\n\n\n\nDJ Davis\n\n\n\nEvery Tuesday starting August 19\, 2025\n\n \n\nFree to Play              Must be 21\n\n\nEvery Tuesday @ 7pm\n\nStarts Tuesday\, August 19\, 2025\n\nFREE to Play - Must be 21\n\nWeekly Prizes\n\n1st Place - $30 Gift Card\n\n2nd Place - $20 Gift Card\n\n3rd Place - $10 Gift Card\n\n4 Rounds \n\n- 1st round - 70's/80's Music Trivia Questions\n\n- 2nd round - 'Name that Artist' with different genres of music\n\n- 3rd round - 90's-Current Music Trivia Questions\n\n- 4th round - 'Name that Song' with different genres of music\n\n- No cell phones allowed during game\n\nTEAM TRIVIA \n\nEnd of Season Price Breakdown \n\nFirst Team Name pulled wins $300 cash \n\nSecond Team Name pulled wins $150 cash \n\nThird Team Name pulled wins $50 cash \n\nThe prize money will be given to the Team Captain\n\nRULES:\n\nTeam Captain must sign in the Team on the Team sheet (yellow) for a chance to win cash prizes at the end of the season\, Tuesday\, December 16\, 2025 + the weekly gift card prizes.\n\n- Must be present to win on Tuesday\, December 16\, 2025\n\n- Drawing held at conclusion of TRIVIA on Tuesday\, December 16\, 2025\n\n- Team must sign in each week for entry into contest.\n\n- The more weeks you participate the greater your chances\n\n- One team entry per week\n\n- Team must be present and play to sign n each week\n\n- Maximum 8 players per team\n\nINDIVIDUAL PLAYERS\n\nEach person must sign in on the individual TRIVIA sheet (white) for a chance to win the TV at the end of the season\, Tuesday\, December 16\, 2025 \n\n- TV Drawing and Give Away on Tuesday\, December 16\, 2025\n\n- Must be present to win on Tuesday\, December 16\, 2025\n\n- Drawing held at conclusion of TRIVIA on Tuesday\, December 16\, 2025\n\n- Sign in each week for entry into contest\n\n- The more weeks you participate the greater the chances\n\n- One entry per week per person\n\n- Must be present and play to sign in each week.\n\nLAST DAY & TV Drawing Tuesday\, December 16\, 2025\n\n\nVisit our website http://www.saltedrimde.com and check out all of the events including Music Trivia on Tuesdays\, TRIVIA on Wednesday's and MINGO on Thursday's.\n\n\n\nHope to see your there!!
X-ALT-DESC;FMTTYPE=text/html:<div style="text-align:center"><span style="font-size:14px"><span style="font-family:arial"><strong><em><span style="font-size:20px"><span style="color:rgb(0\, 0\, 205)">MUSIC T-R-I-V-I-A</span></span></em><br />\n7 pm<br />\nThe Salted Rim Margarita Bar &amp\; Grille<br />\nMillville\, DE<br />\n<br />\nDJ Davis<br />\n<br />\nEvery Tuesday starting August 19\, 2025</strong></span></span></div>\n\n<div style="text-align:center">&nbsp\;</div>\n\n<div style="text-align:center"><span style="font-size:14px"><span style="font-family:arial"><strong><span style="font-size:16px"><em><span style="font-family:arial\,helvetica\,sans-serif">Free to Play&nbsp\; &nbsp\; &nbsp\; &nbsp\; &nbsp\; &nbsp\; &nbsp\; Must be 21</span></em></span></strong></span></span>\n\n<div style="text-align:left">\n<p><span style="font-family:arial\,sans-serif\; font-size:11pt">Every Tuesday @ 7pm</span><br />\n<span style="font-family:arial\,sans-serif\; font-size:11pt">Starts Tuesday\, August 19\, 2025</span><br />\n<span style="font-family:arial\,sans-serif\; font-size:11pt">FREE to Play - Must be 21</span></p>\n\n<p><span style="font-family:arial\,sans-serif\; font-size:11pt"><strong>Weekly Prizes</strong></span><br />\n<span style="font-family:arial\,sans-serif\; font-size:11pt">1st Place - $30 Gift Card</span><br />\n<span style="font-family:arial\,sans-serif\; font-size:11pt">2nd Place - $20 Gift Card</span><br />\n<span style="font-family:arial\,sans-serif\; font-size:11pt">3rd Place - $10 Gift Card</span></p>\n\n<p><span style="font-family:arial\,sans-serif\; font-size:11pt"><strong>4 Rounds</strong>&nbsp\;</span><br />\n<span style="font-family:arial\,sans-serif\; font-size:11pt">- 1st round - 70&#39\;s/80&#39\;s Music Trivia Questions</span><br />\n<span style="font-family:arial\,sans-serif\; font-size:11pt">- 2nd round - &#39\;Name that Artist&#39\; with different genres of music</span><br />\n<span style="font-family:arial\,sans-serif\; font-size:11pt">- 3rd round - 90&#39\;s-Current Music Trivia Questions</span><br />\n<span style="font-family:arial\,sans-serif\; font-size:11pt">- 4th round - &#39\;Name that Song&#39\; with different genres of music</span></p>\n\n<p><span style="font-family:arial\,sans-serif\; font-size:11pt">- No cell phones allowed during game</span></p>\n\n<p><span style="font-family:arial\,sans-serif\; font-size:11pt"><strong>TEAM TRIVIA</strong>&nbsp\;</span><br />\n<span style="font-family:arial\,sans-serif\; font-size:11pt">End of Season Price Breakdown&nbsp\;</span><br />\n<span style="font-family:arial\,sans-serif\; font-size:11pt">First Team Name pulled wins $300 cash&nbsp\;</span><br />\n<span style="font-family:arial\,sans-serif\; font-size:11pt">Second Team Name pulled wins $150 cash&nbsp\;</span><br />\n<span style="font-family:arial\,sans-serif\; font-size:11pt">Third Team Name pulled wins $50 cash&nbsp\;</span></p>\n\n<p><span style="font-family:arial\,sans-serif\; font-size:11pt">The prize money will be given to the Team Captain</span></p>\n\n<p><span style="font-family:arial\,sans-serif\; font-size:11pt"><strong>RULES:</strong></span><br />\n<span style="font-family:arial\,sans-serif\; font-size:11pt">Team Captain must sign in the Team on the Team sheet (yellow) for a chance to win cash prizes at the end of the season\, Tuesday\, December 16\, 2025 + the weekly gift card prizes.</span></p>\n\n<p><span style="font-family:arial\,sans-serif\; font-size:11pt">- Must be present to win on Tuesday\, December 16\, 2025</span><br />\n<span style="font-family:arial\,sans-serif\; font-size:11pt">- Drawing held at conclusion of TRIVIA on Tuesday\, December 16\, 2025</span><br />\n<span style="font-family:arial\,sans-serif\; font-size:11pt">- Team must sign in each week for entry into contest.</span><br />\n<span style="font-family:arial\,sans-serif\; font-size:11pt">- The more weeks you participate the greater your chances</span><br />\n<span style="font-family:arial\,sans-serif\; font-size:11pt">- One team entry per week</span><br />\n<span style="font-family:arial\,sans-serif\; font-size:11pt">- Team must be present and play to sign n each week</span><br />\n<span style="font-family:arial\,sans-serif\; font-size:11pt">- Maximum 8 players per team</span></p>\n\n<p><span style="font-family:arial\,sans-serif\; font-size:11pt"><strong>INDIVIDUAL PLAYERS</strong></span><br />\n<span style="font-family:arial\,sans-serif\; font-size:11pt">Each person must sign in on the individual TRIVIA sheet (white) for a chance to win the TV at the end of the season\, Tuesday\, December 16\, 2025&nbsp\;</span><br />\n<span style="font-family:arial\,sans-serif\; font-size:11pt">- TV Drawing and Give Away on Tuesday\, December 16\, 2025</span><br />\n<span style="font-family:arial\,sans-serif\; font-size:11pt">- Must be present to win on Tuesday\, December 16\, 2025</span><br />\n<span style="font-family:arial\,sans-serif\; font-size:11pt">- Drawing held at conclusion of TRIVIA on Tuesday\, December 16\, 2025</span><br />\n<span style="font-family:arial\,sans-serif\; font-size:11pt">- Sign in each week for entry into contest</span><br />\n<span style="font-family:arial\,sans-serif\; font-size:11pt">- The more weeks you participate the greater the chances</span><br />\n<span style="font-family:arial\,sans-serif\; font-size:11pt">- One entry per week per person</span><br />\n<span style="font-family:arial\,sans-serif\; font-size:11pt">- Must be present and play to sign in each week.</span></p>\n\n<p><span style="font-family:arial\,sans-serif\; font-size:11pt">LAST DAY &amp\; TV Drawing Tuesday\, December 16\, 2025</span></p>\n\n<div>\n<div style="text-align:center"><span style="font-size:14px"><span style="font-family:arial">Visit our website&nbsp\;<a href="http://saltedrimde.com" style="color: rgb(7\, 130\, 193)\;">http://www.saltedrimde.com</a>&nbsp\;and check out all of the&nbsp\;events including Music Trivia on Tuesdays\, TRIVIA on Wednesday&#39\;s and MINGO on Thursday&#39\;s.</span></span></div>\n\n<div><br />\n<span style="font-size:14px"><span style="font-family:arial"><strong><span style="color:rgb(0\, 0\, 0)">Hope to see your there!!</span></strong></span></span></div>\n</div>\n</div>\n</div>\n
LOCATION:The Salted Rim Margarita Bar & Grille 35553 Atlantic Avenue Millville\, DE 19967
UID:e.2126.40579
SEQUENCE:3
DTSTAMP:20260422T014801Z
URL:https://business.bethany-fenwick.org/events/details/music-t-r-i-v-i-a-at-the-salted-rim-margarita-bar-grille-12-02-2025-40579
END:VEVENT

END:VCALENDAR
