BEGIN:VCALENDAR
VERSION:2.0
PRODID:-//ChamberMaster//Event Calendar 2.0//EN
METHOD:PUBLISH
X-PUBLISHED-TTL:P3D
REFRESH-INTERVAL:P3D
CALSCALE:GREGORIAN
BEGIN:VEVENT
DTSTART:20260325T143000Z
DTEND:20260325T153000Z
X-MICROSOFT-CDO-ALLDAYEVENT:FALSE
SUMMARY:Music w/ Miss Maria at South Coastal Library
DESCRIPTION:Sing\, dance\, and play along with Miss Maria at the South Coastal Library in Bethany Beach. This is a fun\, interactive music program designed for children ages 5 and under.
X-ALT-DESC;FMTTYPE=text/html:<p><span style="font-size:16px"><span style="font-family:arial">Sing\, dance\, and play along with Miss Maria at the South Coastal Library in Bethany Beach. This is a&nbsp\;fun\, interactive music program designed for children ages 5 and under.</span></span></p>\n
LOCATION:
UID:e.2126.42625
SEQUENCE:3
DTSTAMP:20260421T100521Z
URL:https://business.bethany-fenwick.org/events/details/music-w-miss-maria-at-south-coastal-library-03-25-2026-42625
END:VEVENT

END:VCALENDAR
