BEGIN:VCALENDAR
VERSION:2.0
PRODID:-//ChamberMaster//Event Calendar 2.0//EN
METHOD:PUBLISH
X-PUBLISHED-TTL:P3D
REFRESH-INTERVAL:P3D
CALSCALE:GREGORIAN
BEGIN:VEVENT
DTSTART:20240825T223000Z
DTEND:20240825T233000Z
X-MICROSOFT-CDO-ALLDAYEVENT:FALSE
SUMMARY:Nathan Coe Marsh at Dickens Parlour Theatre
DESCRIPTION:MAGIC Magazine described his work as "a breath of fresh air\," VANISH International Magic Magazine featured him on its cover and called him "one of the top comedy magicians in the magic world." Event Solutions magazine chose him as a finalist for "Entertainer of The Year." And now\, Nathan Coe Marsh will be live on the Dickens Parlour Theatre stage to amaze YOU!
X-ALT-DESC;FMTTYPE=text/html:<span style="color:rgb(36\, 36\, 36)\; font-family:tahoma\,geneva\,sans-serif\; font-size:14px">MAGIC</span><span style="color:rgb(36\, 36\, 36)\; font-family:tahoma\,geneva\,sans-serif\; font-size:14px">&nbsp\;Magazine described his work as &ldquo\;a breath of fresh air\,&rdquo\;&nbsp\;</span><span style="color:rgb(36\, 36\, 36)\; font-family:tahoma\,geneva\,sans-serif\; font-size:14px">VANISH</span><span style="color:rgb(36\, 36\, 36)\; font-family:tahoma\,geneva\,sans-serif\; font-size:14px">&nbsp\;International Magic Magazine featured him on its cover and called him &ldquo\;one of the top comedy magicians in the magic world.&rdquo\; Event Solutions magazine chose him as a finalist for &ldquo\;Entertainer of The Year.&rdquo\; And now\, Nathan Coe Marsh will be live on the Dickens Parlour Theatre stage to amaze YOU!&nbsp\;</span>
LOCATION:Dickens Parlour Theatre 31810 Good Earth Lane Ocean View\, DE 19970
UID:e.2126.30207
SEQUENCE:3
DTSTAMP:20260420T163617Z
URL:https://business.bethany-fenwick.org/events/details/nathan-coe-marsh-at-dickens-parlour-theatre-08-25-2024-30207
END:VEVENT

END:VCALENDAR
