BEGIN:VCALENDAR
VERSION:2.0
PRODID:-//ChamberMaster//Event Calendar 2.0//EN
METHOD:PUBLISH
X-PUBLISHED-TTL:P3D
REFRESH-INTERVAL:P3D
CALSCALE:GREGORIAN
BEGIN:VEVENT
DTSTART:20230909T140000Z
DTEND:20230909T160000Z
X-MICROSOFT-CDO-ALLDAYEVENT:FALSE
SUMMARY:Native Plants for You and Wildlife\, Too With Gregg Tepper
DESCRIPTION:Native plants offer many benefits   to us\, and the wildlife around us. Join Gregg Tepper\, Horticulturist\, and native plant expert\, for a two-hour workshop at Inland Bays Garden Center where he will delve into the many features and benefits of these important plants. This information-packed talk will be focused on twelve various native plants to include their cultivation\, how to use them in your landscape\, and their important benefits to insect pollinators and native birds. Additionally\, Gregg will address the issues of heavy deer pressure and offer advice on a strategy using deer-resistant plants and effective repellent products. Learn to create a garden\, a plant community and wildlife habitat all in one!\n\n\n\nGregg Tepper is a professional horticulturist\, lecturer\, consultant\, and life-long native plant enthusiast. He has been in the public horticulture industry for over 30 years and has helped steward\, guide\, and promote various public gardens including Mt. Cuba Center and Delaware Botanic Gardens at Pepper Creek. He is the Senior Horticulturist at the Arboretum at Laurel Hill in Philadelphia\, PA\, comprising two historic cemetery properties totaling 265 acres\, where he co-manages the horticulture interns and staff. His primary focus is on creating and stewarding multiple ecologically-sound display garden areas at both properties including the Rock Garden\, the historic Medallion Garden\, the award-winning Chapel Gardens and Nature's Sanctuary\, a multiple-award-winning SITES Gold certified green burial landscape. His work brings him much joy through the many opportunities to educate the public\, collaborate with fellow public gardens and work closely with specialty nurseries to custom grow vast collections of unique and garden-worthy plants that\, through the building of diverse plant communities\, create what he calls "gardens to feel good about".\n\n\n\nGregg has lectured extensively in the United States as well as the Royal Botanic Gardens Kew and Wisley in Great Britain. He is co-author of the popular book "Deer-Resistant Native Plants for the Northeast" about which he lectures regularly. He is currently working on two new books\, "Mirabelle visits a Garden: A Native Plant Garden Adventure"\, a co-authored book for children about native plants and their many wildlife benefits and "The Sensory Appeal of Native Plants: A Wildflower Celebration". His happiest pastimes are discovering new plants\, scouring on-line plant\, shrub\, and tree catalogs\, stewarding his own city garden\, and reading about his favorite subject\, Horticulture.\n\nClick here to get tickets!
X-ALT-DESC;FMTTYPE=text/html:<h5>Native plants offer many benefits &ndash\; to us\, and the wildlife around us. Join Gregg Tepper\, Horticulturist\, and native plant expert\, for a two-hour workshop at Inland Bays Garden Center where he will delve into the many features and benefits of these important plants. This information-packed talk will be focused on twelve various native plants to include their cultivation\, how to use them in your landscape\, and their important benefits to insect pollinators and native birds. Additionally\, Gregg will address the issues of heavy deer pressure and offer advice on a strategy using deer-resistant plants and effective repellent products. Learn to create a garden\, a plant community and wildlife habitat all in one!<br />\n<br />\nGregg Tepper is a professional horticulturist\, lecturer\, consultant\, and life-long native plant enthusiast. He has been in the public horticulture industry for over 30 years and has helped steward\, guide\, and promote various public gardens including Mt. Cuba Center and Delaware Botanic Gardens at Pepper Creek. He is the Senior Horticulturist at the Arboretum at Laurel Hill in Philadelphia\, PA\, comprising two historic cemetery properties totaling 265 acres\, where he co-manages the horticulture interns and staff. His primary focus is on creating and stewarding multiple ecologically-sound display garden areas at both properties including the Rock Garden\, the historic Medallion Garden\, the award-winning Chapel Gardens and Nature&rsquo\;s Sanctuary\, a multiple-award-winning SITES Gold certified green burial landscape. His work brings him much joy through the many opportunities to educate the public\, collaborate with fellow public gardens and work closely with specialty nurseries to custom grow vast collections of unique and garden-worthy plants that\, through the building of diverse plant communities\, create what he calls &ldquo\;gardens to feel good about&rdquo\;.<br />\n<br />\nGregg has lectured extensively in the United States as well as the Royal Botanic Gardens Kew and Wisley in Great Britain. He is co-author of the popular book &ldquo\;Deer-Resistant Native Plants for the Northeast&rdquo\; about which he lectures regularly. He is currently working on two new books\, &ldquo\;Mirabelle visits a Garden: A Native Plant Garden Adventure&rdquo\;\, a co-authored book for children about native plants and their many wildlife benefits and &ldquo\;The Sensory Appeal of Native Plants: A Wildflower Celebration&rdquo\;. His happiest pastimes are discovering new plants\, scouring on-line plant\, shrub\, and tree catalogs\, stewarding his own city garden\, and reading about his favorite subject\, Horticulture.</h5>\n\n<h5><a href="https://www.eventbrite.com/e/690166555747?aff=oddtdtcreator" rel="noopener" style="box-sizing: border-box\; background-color: transparent\; border-bottom: 1px solid currentcolor\; text-decoration-line: none\; color: rgb(28\, 30\, 31) !important\;" target="_blank"><strong>Click here to get ticket</strong><strong>s!</strong></a></h5>\n
LOCATION:Inland Bays Garden Center 38320 Muddy Neck Rd\, Frankford\, DE\, 19945
UID:e.2126.26506
SEQUENCE:3
DTSTAMP:20260420T212016Z
URL:https://business.bethany-fenwick.org/events/details/native-plants-for-you-and-wildlife-too-with-gregg-tepper-26506
END:VEVENT

END:VCALENDAR
