BEGIN:VCALENDAR
VERSION:2.0
PRODID:-//ChamberMaster//Event Calendar 2.0//EN
METHOD:PUBLISH
X-PUBLISHED-TTL:P3D
REFRESH-INTERVAL:P3D
CALSCALE:GREGORIAN
BEGIN:VEVENT
DTSTART;VALUE=DATE:20220303
DTEND;VALUE=DATE:20220307
TRANSP:TRANSPARENT
X-MICROSOFT-CDO-ALLDAYEVENT:TRUE
SUMMARY:Ocean City Film Festival
DESCRIPTION:The Ocean City Film Festival is returning to theatres for it's 6th annual season! Join us March 3-6\, 2022.\n\n\n\nThe Ocean City Film Festival is a collaboration with the Art League of Ocean City to showcase local and regional filmmakers. We promote diversity and uniqueness\, and showcase 100+ films in venues across Ocean City during the 2nd weekend of every March.\n\n\n\nLike us on Facebook and follow us on Instagram to stay up to date on information!
X-ALT-DESC;FMTTYPE=text/html:<span style="color:rgb(5\, 5\, 5)\; font-family:segoe ui historic\,segoe ui\,helvetica\,arial\,sans-serif\; font-size:15px">The Ocean City Film Festival is returning to theatres for it&#39\;s 6th annual season! Join us March 3-6\, 2022.</span><br />\n<br />\n<span style="color:rgb(5\, 5\, 5)\; font-family:segoe ui historic\,segoe ui\,helvetica\,arial\,sans-serif\; font-size:15px">The Ocean City Film Festival&nbsp\;</span><span style="color:rgb(5\, 5\, 5)\; font-family:segoe ui historic\,segoe ui\,helvetica\,arial\,sans-serif\; font-size:15px">is a collaboration with the Art League of Ocean City to showcase local and regional filmmakers. We promote diversity and uniqueness\, and showcase 100+ films in venues across Ocean City during the 2nd weekend of every March.</span><br />\n<br />\n<span style="color:rgb(5\, 5\, 5)\; font-family:segoe ui historic\,segoe ui\,helvetica\,arial\,sans-serif\; font-size:15px">Like us on Facebook and follow us on Instagram to stay up to date on information!</span>
LOCATION:
UID:e.2126.23327
SEQUENCE:3
DTSTAMP:20260424T054828Z
URL:https://business.bethany-fenwick.org/events/details/ocean-city-film-festival-23327
END:VEVENT

END:VCALENDAR
