BEGIN:VCALENDAR
VERSION:2.0
PRODID:-//ChamberMaster//Event Calendar 2.0//EN
METHOD:PUBLISH
X-PUBLISHED-TTL:P3D
REFRESH-INTERVAL:P3D
CALSCALE:GREGORIAN
BEGIN:VEVENT
DTSTART:20230915T223000Z
DTEND:20230916T013000Z
X-MICROSOFT-CDO-ALLDAYEVENT:FALSE
SUMMARY:Ocean View's Classic Movie Night: The Adventures of Robin Hood
DESCRIPTION:Join the Town of Ocean View for their Classic Movie Night featuring 'the Adventures of Robin Hood\,' in John West Park on Friday\, September 15th.  The movie will start at 7:30\, there will be photo ops with the King of Thievesm axe throwing games\, and food sales by Boy Scout Troop 281!\n\n\n\nBe sure to bring your lawn chairs and visit www.oceanviewde.gov for updated event information.
X-ALT-DESC;FMTTYPE=text/html:Join the Town of Ocean View for their Classic Movie Night featuring &#39\;the Adventures of Robin Hood\,&#39\; in John West Park on Friday\, September 15th.&nbsp\; The movie will start at 7:30\, there will be photo ops with the King of Thievesm axe throwing games\, and food sales by Boy Scout Troop 281!<br />\n<br />\nBe sure to bring your lawn chairs and visit www.oceanviewde.gov for updated event information.
LOCATION:John West Park 32 West Ave. Ocean View\, DE 19970
UID:e.2126.26652
SEQUENCE:3
DTSTAMP:20260420T213200Z
URL:https://business.bethany-fenwick.org/events/details/ocean-view-s-classic-movie-night-the-adventures-of-robin-hood-26652
END:VEVENT

END:VCALENDAR
