BEGIN:VCALENDAR
VERSION:2.0
PRODID:-//ChamberMaster//Event Calendar 2.0//EN
METHOD:PUBLISH
X-PUBLISHED-TTL:P3D
REFRESH-INTERVAL:P3D
CALSCALE:GREGORIAN
BEGIN:VEVENT
DTSTART:20230908T223000Z
DTEND:20230909T013000Z
X-MICROSOFT-CDO-ALLDAYEVENT:FALSE
SUMMARY:Ocean View's Classic Movie Night: 'To Catch a Thief'
DESCRIPTION:Come to John West Park on Friday\, September 8th\, for Ocean View's Classic Movie Night featuring Alfred Hitchcock's 'To Catch a Thief!'  The festvities\, including food\, drink\, music\, and dancing\, start at 6:30 PM with the movie starting at 7:30 PM.  Kristina's Kitchen will be onsite with food\, along with Salted Vines Vineyard and Winery selling wine by the glass benfiting Santa's Letters.  Be sure to bring your lawn chairs!
X-ALT-DESC;FMTTYPE=text/html:Come to John West Park on Friday\, September 8th\, for Ocean View&#39\;s Classic Movie Night featuring Alfred Hitchcock&#39\;s &#39\;To Catch a Thief!&#39\;&nbsp\; The festvities\, including food\, drink\, music\, and dancing\, start at 6:30 PM with the movie starting at 7:30 PM.&nbsp\; Kristina&#39\;s Kitchen will be onsite with food\, along with Salted Vines Vineyard and Winery selling wine by the glass benfiting Santa&#39\;s Letters.&nbsp\; Be sure to bring your lawn chairs!
LOCATION:John West Park 32 West Ave. Ocean View\, DE 19970
UID:e.2126.26602
SEQUENCE:3
DTSTAMP:20260420T213106Z
URL:https://business.bethany-fenwick.org/events/details/ocean-view-s-classic-movie-night-to-catch-a-thief-26602
END:VEVENT

END:VCALENDAR
