BEGIN:VCALENDAR
VERSION:2.0
PRODID:-//ChamberMaster//Event Calendar 2.0//EN
METHOD:PUBLISH
X-PUBLISHED-TTL:P3D
REFRESH-INTERVAL:P3D
CALSCALE:GREGORIAN
BEGIN:VEVENT
DTSTART:20211007T120000Z
DTEND:20211007T133000Z
X-MICROSOFT-CDO-ALLDAYEVENT:FALSE
SUMMARY:October 2021 Membership Meeting - "Recovery\,Resiliency\, and Innovation: A Touch Base with Dr. Tam"
DESCRIPTION:Join us on October 7\, 2021  for "Recovery\, Resiliency\, and Innovation: A Touch Base with Dr. Tam"\n\n \n\nJoin David Tam\, MD\, MBA\, FACHE\, President & CEO\, Beebe Healthcare\, as he reflects on the extraordinary past year and a half and discusses how Beebe will care for the community in the future as regional healthcare leaders.  Dr. Tam will share his personal insights on how Beebe Healthcare has innovated for patient safety\, access\, and convenience during the pandemic. He will also reveal some of the exciting ways that Beebe is meeting our community's needs for the future\, including new\, state-of the-art facilities\, expanded surgery programs\, and additional providers who are joining the organization.\n\n \n\n\n\n\n\nRegistration is required to accommodate our host. The cost is $10 and includes breakfast. \n\n \n\nMembership Meetings are intended to increase awareness of what is happening in the business community. Whether a dynamic speaker\, an educational workshop or a true networking event\, Membership Meetings are long-standing traditions in serving as an informational platform for the business community. And\, to add to the excitement   breakfast will be served to get the morning started off right.
X-ALT-DESC;FMTTYPE=text/html:<span style="font-size: 14px\;"><span style="background: white\;"><span style="word-spacing: 0px\; orphans: 2\; widows: 2\; font-variant-ligatures: normal\; font-variant-caps: normal\; -webkit-text-stroke-width: 0px\; text-decoration-style: initial\;">Join us on October 7</span></span></span><span style="font-size: 14px\; background-image: initial\; background-position: initial\; background-size: initial\; background-repeat: initial\; background-attachment: initial\; background-origin: initial\; background-clip: initial\;">\, 2021&nbsp\; for&nbsp\;</span>&ldquo\;Recovery\, Resiliency\, and Innovation: A Touch Base with Dr. Tam&rdquo\;<br />\n&nbsp\;<br />\nJoin David Tam\, MD\, MBA\, FACHE\, President &amp\; CEO\, Beebe Healthcare\, as he reflects on the extraordinary past year and a half and discusses how Beebe will care for the community in the future as regional healthcare leaders.&nbsp\; Dr. Tam will share his personal insights on how Beebe Healthcare has innovated for patient safety\, access\, and convenience during the pandemic. He will also reveal some of the exciting ways that Beebe is meeting our community&rsquo\;s needs for the future\, including new\, state-of the-art facilities\, expanded surgery programs\, and additional providers who are joining the organization.<br />\n&nbsp\;<br />\n<br />\n<br />\n<span style="font-size: 14px\;"><strong><span style="background: white\;"><span style="color: rgb(51\, 51\, 51)\;"><span style="font-family: arial\,sans-serif\;">Registration is required to accommodate our host. The cost is $10 and includes breakfast.&nbsp\;</span></span></span></strong><br style="word-spacing: 0px\; orphans: 2\; widows: 2\; font-variant-ligatures: normal\; font-variant-caps: normal\; -webkit-text-stroke-width: 0px\; text-decoration-style: initial\;" />\n<span style="color: rgb(51\, 51\, 51)\;"><span style="font-family: arial\,sans-serif\;"><span style="word-spacing: 0px\; orphans: 2\; widows: 2\; font-variant-ligatures: normal\; font-variant-caps: normal\; -webkit-text-stroke-width: 0px\; text-decoration-style: initial\;">&nbsp\;<br />\nMembership Meetings are intended to increase awareness of what is happening in the business community. Whether a dynamic speaker\, an educational workshop or a true networking event\, Membership Meetings are long-standing traditions in serving as an informational platform for the business community. And\, to add to the excitement &hellip\; breakfast will be served to get the morning started off right.</span></span></span></span><br />\n<br />\n<span style="font-size: 14px\;"><span style="font-family: arial\;">&nbsp\;</span></span><br />\n&nbsp\;
LOCATION:Millville Community Center at Evans Park 32517 Dukes Drive Millville\, DE 19967
UID:e.2126.22583
SEQUENCE:3
DTSTAMP:20260424T131856Z
URL:https://business.bethany-fenwick.org/events/details/october-2021-membership-meeting-recovery-resiliency-and-innovation-a-touch-base-with-dr-tam-22583
END:VEVENT

END:VCALENDAR
