BEGIN:VCALENDAR
VERSION:2.0
PRODID:-//ChamberMaster//Event Calendar 2.0//EN
METHOD:PUBLISH
X-PUBLISHED-TTL:P3D
REFRESH-INTERVAL:P3D
CALSCALE:GREGORIAN
BEGIN:VEVENT
DTSTART:20230930T170000Z
DTEND:20230930T220000Z
X-MICROSOFT-CDO-ALLDAYEVENT:FALSE
SUMMARY:Oktoberfest at Evans Park
DESCRIPTION:The 2nd annual Oktoberfest will feature FREE concerts\, Banks beer tastings from over 15 local craft breweries\, games\, and artisan craft vendors!\n\n\n\nStarting at 1pm will be an authentic German oompah band "Shutzengiggles" and from 4-6pm enjoy the energetic tunes from local band DECADE 80! Food and pretzels will be available for purchase. Tickets are needed for the beer tastings only - all other events are FREE.\n\n\n\nVisit bankswinesandspirits.com to purchase beer tasting tickets. MUST BE OVER 21 to enter the Beer Garden area.\n\n\n\nThe rain date is Sunday\, October 1st.
X-ALT-DESC;FMTTYPE=text/html:The 2nd annual Oktoberfest will feature FREE concerts\, Banks beer tastings from over 15 local craft breweries\, games\, and artisan craft vendors!<br />\n<br />\nStarting at 1pm will be an authentic German oompah band &quot\;Shutzengiggles&quot\; and from 4-6pm enjoy the energetic tunes from local band DECADE 80! Food and pretzels will be available for purchase. Tickets are needed for the beer tastings only - all other events are FREE.<br />\n<br />\nVisit <a href="https://bankswinesandspirits.com/">bankswinesandspirits.com</a> to purchase beer tasting tickets. MUST BE OVER 21 to enter the Beer Garden area.<br />\n<br />\nThe rain date is Sunday\, October 1st.<br />\n&nbsp\;
LOCATION:Evans Park 32517 Dukes Dr. Millville\, DE 19967
UID:e.2126.26912
SEQUENCE:3
DTSTAMP:20260420T211612Z
URL:https://business.bethany-fenwick.org/events/details/oktoberfest-at-evans-park-26912
END:VEVENT

END:VCALENDAR
