BEGIN:VCALENDAR
VERSION:2.0
PRODID:-//ChamberMaster//Event Calendar 2.0//EN
METHOD:PUBLISH
X-PUBLISHED-TTL:P3D
REFRESH-INTERVAL:P3D
CALSCALE:GREGORIAN
BEGIN:VEVENT
DTSTART:20240120T230000Z
DTEND:20240121T010000Z
X-MICROSOFT-CDO-ALLDAYEVENT:FALSE
SUMMARY:Originals Only at Art League of OC
DESCRIPTION:Join us for live performances at the OC Center for the Arts\, featuring original acts by local up-and-coming musicians!\n\nThe Line Up: TBA\n\n$5 suggested donation. Please no drinking\, no drugs\, and no covers.
X-ALT-DESC;FMTTYPE=text/html:<p>Join us for live performances at the OC Center for the Arts\, featuring original acts by local up-and-coming musicians!</p>\n\n<p>The Line Up: TBA</p>\n\n<p>$5 suggested donation. Please no drinking\, no drugs\, and no covers.</p>\n
LOCATION:Art League of Ocean City 502 94th Street OCMD 21842
UID:e.2126.27394
SEQUENCE:3
DTSTAMP:20260420T151942Z
URL:https://business.bethany-fenwick.org/events/details/originals-only-at-art-league-of-oc-27394
END:VEVENT

END:VCALENDAR
