BEGIN:VCALENDAR
VERSION:2.0
PRODID:-//ChamberMaster//Event Calendar 2.0//EN
METHOD:PUBLISH
X-PUBLISHED-TTL:P3D
REFRESH-INTERVAL:P3D
CALSCALE:GREGORIAN
BEGIN:VEVENT
DTSTART;VALUE=DATE:20250523
DTEND;VALUE=DATE:20250526
TRANSP:TRANSPARENT
X-MICROSOFT-CDO-ALLDAYEVENT:TRUE
SUMMARY:Poseidon Festival
DESCRIPTION:Don't miss the 10th Anniversary of the Bethany Beach Poseidon Festival! \n\nCelebrate the sea and get valuable information to help prepare for coastal emergencies. \n\nEnjoy live music\, pirates\, mermaids\, marine scientists\, and more in a beautiful beachfront location!\n\nFor a full schedule\, please visit www.townofbethanybeach.com -  Activities -  Poseidon Festival
X-ALT-DESC;FMTTYPE=text/html:<h1 class="headline" style="box-sizing: border-box\; font-family: Raleway\; font-weight: 800\; color: rgb(0\, 70\, 120)\; font-size: 1.5em\; text-align: center\;">Don&#39\;t miss the 10th Anniversary of the Bethany Beach Poseidon Festival!&nbsp\;</h1>\n\n<h3 class="subhead2" style="box-sizing: border-box\; margin-top: 1.4em\; font-family: &quot\;Work Sans&quot\;\; font-weight: 700\; color: rgb(68\, 68\, 68)\; font-size: 1.1em\; text-align: center\;">Celebrate the sea and get valuable information to help prepare for coastal emergencies.&nbsp\;</h3>\n\n<h3 class="subhead2" style="box-sizing: border-box\; margin-top: 1.4em\; font-family: &quot\;Work Sans&quot\;\; font-weight: 700\; color: rgb(68\, 68\, 68)\; font-size: 1.1em\; text-align: center\;">Enjoy live music\, pirates\, mermaids\, marine scientists\, and more in a beautiful beachfront location!</h3>\n\n<p class="headline" style="box-sizing: border-box\; font-family: Raleway\; font-weight: 800\; color: rgb(0\, 70\, 120)\; font-size: 1.5em\;">For a full schedule\, please visit www.townofbethanybeach.com -&gt\; Activities -&gt\; Poseidon Festival&nbsp\;</p>\n
LOCATION:Bethany Beach Bandstand and Plaza Off Garfield Parkway
UID:e.2126.38248
SEQUENCE:3
DTSTAMP:20260422T144403Z
URL:https://business.bethany-fenwick.org/events/details/poseidon-festival-05-23-2025-38248
END:VEVENT

END:VCALENDAR
