BEGIN:VCALENDAR
VERSION:2.0
PRODID:-//ChamberMaster//Event Calendar 2.0//EN
METHOD:PUBLISH
X-PUBLISHED-TTL:P3D
REFRESH-INTERVAL:P3D
CALSCALE:GREGORIAN
BEGIN:VEVENT
DTSTART:20240216T223000Z
DTEND:20240217T020000Z
X-MICROSOFT-CDO-ALLDAYEVENT:FALSE
SUMMARY:Putt-Putt for the Kids with Believe in Tomorrow
DESCRIPTION:Looking for something fun to do in February? Join Believe In Tomorrow Children's Foundation for a swingin' good time at Putt-Putt for the Kids\, Friday\, February 16th at 136th Street Old Pro Golf in Ocean City\, MD!\n\n \n\nFood and beverages provided. Contests\, awards\, raffles\, and more!
X-ALT-DESC;FMTTYPE=text/html:<div><span style="font-family:verdana"><span style="color:rgb(0\, 0\, 128)">Looking for something fun to do in February?&nbsp\;Join Believe In Tomorrow Children's Foundation for a swingin' good time at Putt-Putt for the Kids\, Friday\, February 16th at 136th Street Old Pro Golf in Ocean City\, MD!</span></span><br>\n&nbsp\;</div>\n\n<div><span style="font-family:verdana"><span style="color:rgb(0\, 0\, 128)">Food and beverages provided. Contests\, awards\, raffles\, and more!</span></span></div>\n
LOCATION:Old Pro Golf 13603 Coastal Highway Ocean City\, MD 21842
UID:e.2126.27798
SEQUENCE:3
DTSTAMP:20260420T124937Z
URL:https://business.bethany-fenwick.org/events/details/putt-putt-for-the-kids-with-believe-in-tomorrow-27798
END:VEVENT

END:VCALENDAR
