BEGIN:VCALENDAR
VERSION:2.0
PRODID:-//ChamberMaster//Event Calendar 2.0//EN
METHOD:PUBLISH
X-PUBLISHED-TTL:P3D
REFRESH-INTERVAL:P3D
CALSCALE:GREGORIAN
BEGIN:VEVENT
DTSTART:20240712T230000Z
DTEND:20240713T020000Z
X-MICROSOFT-CDO-ALLDAYEVENT:FALSE
SUMMARY:Rain: A Tribute to the Beatles at Freeman Performing Arts
DESCRIPTION:RAIN: A Tribute to the Beatles is an electrifying concert experience celebrating the timeless music of the legendary fab four. With note-for-note precision\, this mind-blowing performance transports you back to the iconic eras of Sgt. Pepper and Magical Mystery Tour\, along with all your favorite hits. From energetic classics to reflective favorites\, the band delivers an unforgettable performance that appeals to fans old and new. With vibrant costumes and psychedelic visuals\, RAIN creates a stunning concert full of nostalgia and good vibes. RAIN   A Tribute to the Beatles promises an extraordinary journey through the eras that captivates hearts and inspires all generations.
X-ALT-DESC;FMTTYPE=text/html:<span style="color:rgb(4\, 14\, 23)\; font-family:roboto\,helvetica neue\,helvetica\,arial\,sans-serif\; font-size:18px">RAIN: A Tribute to the Beatles&nbsp\;</span><span style="color:rgb(4\, 14\, 23)\; font-family:roboto\,helvetica neue\,helvetica\,arial\,sans-serif\; font-size:18px">is an electrifying concert experience celebrating the timeless music of the legendary fab four. With note-for-note precision\, this mind-blowing performance transports you back to the iconic eras of Sgt. Pepper and Magical Mystery Tour\, along with all your favorite hits. From energetic classics to reflective favorites\, the band delivers an unforgettable performance that appeals to fans old and new. With vibrant costumes and psychedelic visuals\, RAIN creates a stunning concert full of nostalgia and good vibes.&nbsp\;</span><span style="color:rgb(4\, 14\, 23)\; font-family:roboto\,helvetica neue\,helvetica\,arial\,sans-serif\; font-size:18px">RAIN &mdash\; A Tribute to the Beatles&nbsp\;</span><span style="color:rgb(4\, 14\, 23)\; font-family:roboto\,helvetica neue\,helvetica\,arial\,sans-serif\; font-size:18px">promises an extraordinary journey through the eras that captivates hearts and inspires all generations.</span>
LOCATION:Freeman Arts Pavilion 31806 Lakeview Drive Selbyville\, DE 19975
UID:e.2126.28476
SEQUENCE:3
DTSTAMP:20260420T133319Z
URL:https://business.bethany-fenwick.org/events/details/rain-a-tribute-to-the-beatles-at-freeman-performing-arts-28476
END:VEVENT

END:VCALENDAR
