BEGIN:VCALENDAR
VERSION:2.0
PRODID:-//ChamberMaster//Event Calendar 2.0//EN
METHOD:PUBLISH
X-PUBLISHED-TTL:P3D
REFRESH-INTERVAL:P3D
CALSCALE:GREGORIAN
BEGIN:VEVENT
DTSTART:20240820T150000Z
DTEND:20240820T170000Z
X-MICROSOFT-CDO-ALLDAYEVENT:FALSE
SUMMARY:Ravioli & Tortellacci Class at DiFebo's
DESCRIPTION:The Ravioli and Tortellaci class offers hands-on pasta-making instruction followed by a delicious lunch featuring the freshly prepared dishes.\n\n\n\nLunch : Mixed Italian Salad with Italian Chicken & House Vinaigrette\, 1 glass of house Wine\, Dessert.
X-ALT-DESC;FMTTYPE=text/html:<span style="color:rgb(111\, 114\, 135)\; font-family:neue plak\,-apple-system\,system-ui\,roboto\,helvetica neue\,helvetica\,tahoma\,arial\,sans-serif\; font-size:16px">The Ravioli and Tortellaci class offers hands-on pasta-making instruction followed by a delicious lunch featuring the freshly prepared dishes.</span><br />\n<br />\n<span style="color:rgb(111\, 114\, 135)\; font-family:neue plak\,-apple-system\,system-ui\,roboto\,helvetica neue\,helvetica\,tahoma\,arial\,sans-serif\; font-size:16px">Lunch : Mixed Italian Salad with Italian Chicken &amp\; House Vinaigrette\, 1 glass of house Wine\, Dessert.</span>
LOCATION:DiFebo's Bethany Restaurant 789 Garfield Parkway Bethany Beach\, DE 19930
UID:e.2126.30268
SEQUENCE:3
DTSTAMP:20260420T163613Z
URL:https://business.bethany-fenwick.org/events/details/ravioli-tortellacci-class-at-difebo-s-08-20-2024-30268
END:VEVENT

END:VCALENDAR
