BEGIN:VCALENDAR
VERSION:2.0
PRODID:-//ChamberMaster//Event Calendar 2.0//EN
METHOD:PUBLISH
X-PUBLISHED-TTL:P3D
REFRESH-INTERVAL:P3D
CALSCALE:GREGORIAN
BEGIN:VEVENT
DTSTART;VALUE=DATE:20220202
DTEND;VALUE=DATE:20220305
TRANSP:TRANSPARENT
X-MICROSOFT-CDO-ALLDAYEVENT:TRUE
SUMMARY:Restaurant Week - Local Cuisine Restaurant Applications 2022
DESCRIPTION:The Bethany-Fenwick Area Chamber of Commerce presents Restaurant Week!\n\n\n\nThe website\, LocalCuisineDE.com will feature all participating restaurants' menus highlighting dine-in and take-out options. The website will also display accommodation specials and packages. \n\n\n\nParticipate in The Quiet Resorts Restaurant Week on March 13 - March 20.  Applications are due by February 26\, 2022.\n\n\n\nMenu Selections/Specials are due on March 7\, 2022
X-ALT-DESC;FMTTYPE=text/html:<span style="font-family: arial\;"><span style="font-size: 14px\;">The Bethany-Fenwick Area Chamber of Commerce presents Restaurant Week!<br />\n<br />\nThe website\,&nbsp\;<a href="https://localcuisinede.com/" target="_blank">LocalCuisineDE.com</a>&nbsp\;will feature all participating restaurants&#39\; menus highlighting dine-in and take-out options. The website will also display accommodation specials and packages.&nbsp\;<br />\n<br />\nParticipate in The Quiet Resorts Restaurant Week on March 13 - March 20.&nbsp\; Applications are due by February 26\, 2022.</span></span><br />\n<br />\n<span style="font-family: arial\;"><span style="font-size: 14px\;">Menu Selections/Specials are due on March 7\, 2022</span></span>
LOCATION:Local restaurants in the Quiet Resorts region.
UID:e.2126.23471
SEQUENCE:3
DTSTAMP:20260424T052139Z
URL:https://business.bethany-fenwick.org/events/details/restaurant-week-local-cuisine-restaurant-applications-2022-23471
END:VEVENT

END:VCALENDAR
